BEGIN:VCALENDAR
VERSION:2.0
PRODID:-//Dortmund mit Kind - ECPv6.15.20//NONSGML v1.0//EN
CALSCALE:GREGORIAN
METHOD:PUBLISH
X-WR-CALNAME:Dortmund mit Kind
X-ORIGINAL-URL:https://dortmundmitkind.de
X-WR-CALDESC:Veranstaltungen für Dortmund mit Kind
REFRESH-INTERVAL;VALUE=DURATION:PT1H
X-Robots-Tag:noindex
X-PUBLISHED-TTL:PT1H
BEGIN:VTIMEZONE
TZID:UTC
BEGIN:STANDARD
TZOFFSETFROM:+0000
TZOFFSETTO:+0000
TZNAME:UTC
DTSTART:20230101T000000
END:STANDARD
END:VTIMEZONE
BEGIN:VEVENT
DTSTART;TZID=UTC:20241216T140000
DTEND;TZID=UTC:20241216T160000
DTSTAMP:20260420T064710
CREATED:20241124T185813Z
LAST-MODIFIED:20241124T185813Z
UID:10002479-1734357600-1734364800@dortmundmitkind.de
SUMMARY:Weihnachtliches Bastelangebot
DESCRIPTION:
URL:https://dortmundmitkind.de/event/weihnachtliches-bastelangebot/2024-12-16/
LOCATION:ZEBRA – Zentrum für Begegnung\, Rat und Austausch\, Kronprinzenstr.89\, Dortmund\, 44135
CATEGORIES:Kreativität
END:VEVENT
BEGIN:VEVENT
DTSTART;TZID=UTC:20241127T150000
DTEND;TZID=UTC:20241127T160000
DTSTAMP:20260420T064710
CREATED:20241124T185240Z
LAST-MODIFIED:20241124T185240Z
UID:10002475-1732719600-1732723200@dortmundmitkind.de
SUMMARY:Vorlese-Angebot
DESCRIPTION:Egal ob allein oder gemeinsam\, groß oder klein\, alt oder jung – Lesen macht Spaß! Denn wir alle lieben gute Geschichten.\n(Vor-)Lesen macht aber nicht nur Spaß\, sondern unterstützt die kindliche Entwicklung auf vielfältige Weise: Es hilft Kindern\, ihren Wortschatz zu erweitern\, regt die Fantasie an und fördert so die Entwicklung des Gehirns\, der Neugier und der Emotionen. Lesen ist essentiell für das Lernen und den gesamten Bildungsweg.\nWenn Kindern regelmäßig vorgelesen wird\, gewinnen sie eine positive Verbindung zum Lesen und zu Büchern. Deshalb macht Grundschullehrerein Henrike Kleischmann ein regelmäßiges Vorleseangebot im ZEBRA.\n\nAngebot für: Kinder und ihre Eltern\nDas Angebot ist kostenfrei!\nOffenes Angebot
URL:https://dortmundmitkind.de/event/vorlese-angebot/
LOCATION:ZEBRA – Zentrum für Begegnung\, Rat und Austausch\, Kronprinzenstr.89\, Dortmund\, 44135
CATEGORIES:Vorlesung
END:VEVENT
END:VCALENDAR