BEGIN:VCALENDAR
VERSION:2.0
PRODID:-//Dortmund mit Kind - ECPv6.15.20//NONSGML v1.0//EN
CALSCALE:GREGORIAN
METHOD:PUBLISH
X-WR-CALNAME:Dortmund mit Kind
X-ORIGINAL-URL:https://dortmundmitkind.de
X-WR-CALDESC:Veranstaltungen für Dortmund mit Kind
REFRESH-INTERVAL;VALUE=DURATION:PT1H
X-Robots-Tag:noindex
X-PUBLISHED-TTL:PT1H
BEGIN:VTIMEZONE
TZID:UTC
BEGIN:STANDARD
TZOFFSETFROM:+0000
TZOFFSETTO:+0000
TZNAME:UTC
DTSTART:20240101T000000
END:STANDARD
END:VTIMEZONE
BEGIN:VEVENT
DTSTART;TZID=UTC:20250329T110000
DTEND;TZID=UTC:20250329T163000
DTSTAMP:20260420T062231
CREATED:20250327T110025Z
LAST-MODIFIED:20250327T110025Z
UID:10002942-1743246000-1743265800@dortmundmitkind.de
SUMMARY:Frühlingsfest auf der Distelwiese
DESCRIPTION:Kommt vorbei und genießt einen wunderschönen Frühlingstag mit leckerem Essen\, einem Minimarkt & Basar\, Attraktionen für Kinder\, Kaffee & Kuchen und einer spannenden Tombola! ☀️🍰🎈
URL:https://dortmundmitkind.de/event/fruehlingsfest-auf-der-distelwiese-2/
LOCATION:Werkstätte Gottessegen Nord\, Ellinghauser Str. 219\, Dortmund\, 44359
CATEGORIES:Fest
END:VEVENT
END:VCALENDAR