BEGIN:VCALENDAR
VERSION:2.0
PRODID:-//Dortmund mit Kind - ECPv6.15.20//NONSGML v1.0//EN
CALSCALE:GREGORIAN
METHOD:PUBLISH
X-WR-CALNAME:Dortmund mit Kind
X-ORIGINAL-URL:https://dortmundmitkind.de
X-WR-CALDESC:Veranstaltungen für Dortmund mit Kind
REFRESH-INTERVAL;VALUE=DURATION:PT1H
X-Robots-Tag:noindex
X-PUBLISHED-TTL:PT1H
BEGIN:VTIMEZONE
TZID:UTC
BEGIN:STANDARD
TZOFFSETFROM:+0000
TZOFFSETTO:+0000
TZNAME:UTC
DTSTART:20240101T000000
END:STANDARD
END:VTIMEZONE
BEGIN:VEVENT
DTSTART;TZID=UTC:20250330T100000
DTEND;TZID=UTC:20250330T120000
DTSTAMP:20260425T105227
CREATED:20241105T133917Z
LAST-MODIFIED:20250327T072836Z
UID:10002915-1743328800-1743336000@dortmundmitkind.de
SUMMARY:Kleider- und Spielzeugbasar in der Turnhalle der Weingartenschule am See
DESCRIPTION:
URL:https://dortmundmitkind.de/event/kleider-und-spielzeugbasar-in-der-turnhalle-der-weingartenschule-am-see/2025-03-30/
LOCATION:Weingartenschule am See\, Weingartenstr. 49\, Dortmund\, 44263
CATEGORIES:Flohmarkt,Flohmarkt
END:VEVENT
END:VCALENDAR