BEGIN:VCALENDAR
VERSION:2.0
PRODID:-//Dortmund mit Kind - ECPv6.15.20//NONSGML v1.0//EN
CALSCALE:GREGORIAN
METHOD:PUBLISH
X-ORIGINAL-URL:https://dortmundmitkind.de
X-WR-CALDESC:Veranstaltungen für Dortmund mit Kind
REFRESH-INTERVAL;VALUE=DURATION:PT1H
X-Robots-Tag:noindex
X-PUBLISHED-TTL:PT1H
BEGIN:VTIMEZONE
TZID:UTC
BEGIN:STANDARD
TZOFFSETFROM:+0000
TZOFFSETTO:+0000
TZNAME:UTC
DTSTART:20230101T000000
END:STANDARD
END:VTIMEZONE
BEGIN:VEVENT
DTSTART;TZID=UTC:20241123T100000
DTEND;TZID=UTC:20241123T130000
DTSTAMP:20260421T143643
CREATED:20241111T190254Z
LAST-MODIFIED:20241111T190254Z
UID:10002076-1732356000-1732366800@dortmundmitkind.de
SUMMARY:Flohmarkt ‘Rund ums Kind’ an der Waldorf Kita Hörde
DESCRIPTION:
URL:https://dortmundmitkind.de/event/flohmarkt-rund-ums-kind-an-der-waldorf-kita-hoerde/
LOCATION:Waldorf Kita Hörde\, Konrad-Glocker-Straße 20\, Dortmund\, 44141
CATEGORIES:Flohmarkt
END:VEVENT
END:VCALENDAR