BEGIN:VCALENDAR
VERSION:2.0
PRODID:-//Dortmund mit Kind - ECPv6.15.20//NONSGML v1.0//EN
CALSCALE:GREGORIAN
METHOD:PUBLISH
X-WR-CALNAME:Dortmund mit Kind
X-ORIGINAL-URL:https://dortmundmitkind.de
X-WR-CALDESC:Veranstaltungen für Dortmund mit Kind
REFRESH-INTERVAL;VALUE=DURATION:PT1H
X-Robots-Tag:noindex
X-PUBLISHED-TTL:PT1H
BEGIN:VTIMEZONE
TZID:UTC
BEGIN:STANDARD
TZOFFSETFROM:+0000
TZOFFSETTO:+0000
TZNAME:UTC
DTSTART:20240101T000000
END:STANDARD
END:VTIMEZONE
BEGIN:VEVENT
DTSTART;TZID=UTC:20250330T110000
DTEND;TZID=UTC:20250330T160000
DTSTAMP:20260420T141745
CREATED:20250312T112830Z
LAST-MODIFIED:20250312T112830Z
UID:10002891-1743332400-1743350400@dortmundmitkind.de
SUMMARY:13. Frühlingsfest im Union-Gewerbehof
DESCRIPTION:auf dem Gelände des Union-Gewerbehofes ein. \nFreuen Sie sich/freut euch auf einen bunten Flohmarkt\, kulinarische Genüsse aus dem Hofcafé\, von Vegamaxx und dem Grillstand sowie auf erfrischendes\, selbstgebrautes Bier vom Brautum e.V. und natürlich auf köstliches Eis von Hitzefrei.\nFür die musikalische Untermalung sorgt ein Klavierspieler\, und unsere kleinen Gäste können sich auf der Hüpfburg austoben.
URL:https://dortmundmitkind.de/event/13-fruehlingsfest-im-union-gewerbehof/
LOCATION:Union Gewerbehof\, Huckarder Str. 10-12\, Dortmund\, 44147
CATEGORIES:Flohmarkt,Markt
END:VEVENT
BEGIN:VEVENT
DTSTART;TZID=UTC:20250118T100000
DTEND;TZID=UTC:20250118T150000
DTSTAMP:20260420T141745
CREATED:20241204T160854Z
LAST-MODIFIED:20241204T160854Z
UID:10002524-1737194400-1737212400@dortmundmitkind.de
SUMMARY:Ton-Ton Schulranzenparty
DESCRIPTION:An diesem Tag erwarten euch : \n\n\nEinzigartige tonton-Schulranzen zum Anschauen und Kaufen\nKostenloser Tragekomfort-Check durch professionelle Experten\nEinen actiongeladenen Parcours mit unseren Schulranzen\nEin buntes Rahmenprogramm\nInformationen rund um tonton\n\n\nEin toller Tag für die ganze Familie wartet auf uns alle!
URL:https://dortmundmitkind.de/event/ton-ton-schulranzenparty/
LOCATION:Union Gewerbehof\, Huckarder Str. 10-12\, Dortmund\, 44147
CATEGORIES:Ausstellung,Einschulung
END:VEVENT
END:VCALENDAR