BEGIN:VCALENDAR
VERSION:2.0
PRODID:-//Dortmund mit Kind - ECPv6.15.20//NONSGML v1.0//EN
CALSCALE:GREGORIAN
METHOD:PUBLISH
X-WR-CALNAME:Dortmund mit Kind
X-ORIGINAL-URL:https://dortmundmitkind.de
X-WR-CALDESC:Veranstaltungen für Dortmund mit Kind
REFRESH-INTERVAL;VALUE=DURATION:PT1H
X-Robots-Tag:noindex
X-PUBLISHED-TTL:PT1H
BEGIN:VTIMEZONE
TZID:UTC
BEGIN:STANDARD
TZOFFSETFROM:+0000
TZOFFSETTO:+0000
TZNAME:UTC
DTSTART:20230101T000000
END:STANDARD
END:VTIMEZONE
BEGIN:VEVENT
DTSTART;TZID=UTC:20241109T170000
DTEND;TZID=UTC:20241109T193000
DTSTAMP:20260425T171958
CREATED:20241029T194040Z
LAST-MODIFIED:20241029T194040Z
UID:10001962-1731171600-1731180600@dortmundmitkind.de
SUMMARY:Sankt Martin in Dortmund-Deusen
DESCRIPTION:Wir starten gegen 17:30 mit Martin\, Pferd und Bläsern. \nAnschließend gibt es heiße und kalte Getränke\, Pommes\, Bratwurst und Brezeln am TuS Deusen.
URL:https://dortmundmitkind.de/event/sankt-martin-in-dortmund-deusen/
LOCATION:Turn- und Sportverein Freiheit Deusen 1910 e. V.\, Deusener Str. 227\, Dortmund\, 44369
CATEGORIES:Draußen
END:VEVENT
END:VCALENDAR