BEGIN:VCALENDAR
VERSION:2.0
PRODID:-//Dortmund mit Kind - ECPv6.15.20//NONSGML v1.0//EN
CALSCALE:GREGORIAN
METHOD:PUBLISH
X-WR-CALNAME:Dortmund mit Kind
X-ORIGINAL-URL:https://dortmundmitkind.de
X-WR-CALDESC:Veranstaltungen für Dortmund mit Kind
REFRESH-INTERVAL;VALUE=DURATION:PT1H
X-Robots-Tag:noindex
X-PUBLISHED-TTL:PT1H
BEGIN:VTIMEZONE
TZID:UTC
BEGIN:STANDARD
TZOFFSETFROM:+0000
TZOFFSETTO:+0000
TZNAME:UTC
DTSTART:20230101T000000
END:STANDARD
END:VTIMEZONE
BEGIN:VEVENT
DTSTART;TZID=UTC:20241124T140000
DTEND;TZID=UTC:20241124T153000
DTSTAMP:20260420T103013
CREATED:20241119T133349Z
LAST-MODIFIED:20241119T133349Z
UID:10002461-1732456800-1732462200@dortmundmitkind.de
SUMMARY:Ausflug ins Theater Fletch Bizzel 'Die Schneekönigin'
DESCRIPTION:Wir machen einen Ausflug ins Theater @theaterfletchbizzel . Dort ist das Theater Phoebus mit dem Theaterstück „Die Schneekönigin“. Ihr seid eingeladen! \nTheater mit Puppen und Live-Musik nach dem Märchen von Hans Christian Andersen.\n​Ein verzaubertes\, eiskaltes Herz.\nVermag die Flamme der Liebe das Eis zu schmelzen? \nDie wunderschöne eiskalte Schneekönigin entführt eines Tages den Jungen Kay in ihren Winterpalast. Ihr Kuß läßt ihn alles vergessen und verwandelt sein Herz in einen Klumpen Eis.\nMutig entschlossen\, ihren Kay wiederzufinden\, begibt Gerda sich auf eine abenteuerliche Reise. Die kluge Krähe\, das wilde Räubermädchen und das geduldige Rentier werden ihr zu Weggefährten\, bis sie\, im ewigen Eis angelangt\, endlich Kay erblickt… \nmit Josefine Schönbrodt und Jan Maria Meissner \nWann?\n24.11.24 14 Uhr\nWir treffen uns um 12:30 Uhr\nDauer ca. 60 Min \nWo?\nTheater Fletch Bizzel\nHumboldtstraße 45\n44137 Dortmund \nWer:\nFür Kinder und Erwachsene ab 3 \nKosten?\nNull. Ihr seid eingeladen! \nMeldet euch an unter info@fraulose.de
URL:https://dortmundmitkind.de/event/ausflug-ins-theater-fletch-bizzel-die-schneekoenigin/
LOCATION:Theater Fletch Bizzel\, Humboldtstr. 45\, Dortmund\, 44137
CATEGORIES:Theater
END:VEVENT
BEGIN:VEVENT
DTSTART;TZID=UTC:20241115T150000
DTEND;TZID=UTC:20241115T163000
DTSTAMP:20260420T103013
CREATED:20241105T132311Z
LAST-MODIFIED:20241111T173156Z
UID:10002031-1731682800-1731688200@dortmundmitkind.de
SUMMARY:KindergartenBuch-TheaterFestival 2024
DESCRIPTION:15 Kindergärten\n15 Kinderbücher\n15 Theaterstücke\n15 Uhr\, täglich drei&#8230; \nSeit nunmehr 20 Jahren ist das KindergartenBuchTheaterFestival der heimliche Höhepunkt des LesArt.Festivals. Wieder einmal haben 15 Dortmunder Kindergartengruppen jeweils ein Kinderbuch ausgewählt und machen ein Theaterstück daraus. Sie schreiben gemeinsam Dialoge\, basteln das Bühnenbild\, entwerfen und schneidern die Kostüme. Manche schreiben sogar Musik dazu und singen und tanzen auf der Bühne. Diese fantasievoll und bunt inszenierten Uraufführungen finden im Theater Fletch Bizzel eine Bühne. \nEintritt frei\, aber Anmeldung erforderlich: kbtf@lesart.ruhr
URL:https://dortmundmitkind.de/event/kindergartenbuchtheaterfestival2024/2024-11-15/
LOCATION:Theater Fletch Bizzel\, Humboldtstr. 45\, Dortmund\, 44137
CATEGORIES:Drinnen
END:VEVENT
BEGIN:VEVENT
DTSTART;TZID=UTC:20241012T110000
DTEND;TZID=UTC:20241012T123000
DTSTAMP:20260420T103013
CREATED:20241009T080749Z
LAST-MODIFIED:20241009T080749Z
UID:10001796-1728730800-1728736200@dortmundmitkind.de
SUMMARY:Theater Phoebus: Die kleine Meerjungfrau
DESCRIPTION:Das Puppenmusical für Alle ab 3 Jahren\n​es spielt das Theater PHOEBUS: Josefine Schönbrodt und Jan Maria Meissner \nDie kleine Meerjungfrau Calypso und das See-Einhorn Fabulo interessieren sich sehr für die Menschenwelt. Trotz dem Verbot ihres Vaters\, dem Meeresgott Poseidon\, taucht Calypso eines Tages über dem Meeresspiegel auf. Prompt verliebt sie sich in einen Prinzen. Ach\, wäre sie doch nur ein Mensch! Die Meerhexe verwandelt ihren Fischschwanz in zwei Beine\, doch verlangt sie dafür ihre Stimme.\n&#8230;Happy End garantiert!. \n\nPro Person\n14\,00 €\n\n\nermäßigt\n10\,00 €
URL:https://dortmundmitkind.de/event/theater-phoebus-die-kleine-meerjungfrau/
LOCATION:Theater Fletch Bizzel\, Humboldtstr. 45\, Dortmund\, 44137
CATEGORIES:Drinnen,Theater
END:VEVENT
END:VCALENDAR