BEGIN:VCALENDAR
VERSION:2.0
PRODID:-//Dortmund mit Kind - ECPv6.15.20//NONSGML v1.0//EN
CALSCALE:GREGORIAN
METHOD:PUBLISH
X-ORIGINAL-URL:https://dortmundmitkind.de
X-WR-CALDESC:Veranstaltungen fÃ¼r Dortmund mit Kind
REFRESH-INTERVAL;VALUE=DURATION:PT1H
X-Robots-Tag:noindex
X-PUBLISHED-TTL:PT1H
BEGIN:VTIMEZONE
TZID:UTC
BEGIN:STANDARD
TZOFFSETFROM:+0000
TZOFFSETTO:+0000
TZNAME:UTC
DTSTART:20230101T000000
END:STANDARD
END:VTIMEZONE
BEGIN:VEVENT
DTSTART;TZID=UTC:20250511T160000
DTEND;TZID=UTC:20250511T170000
DTSTAMP:20260420T212833
CREATED:20250327T080551Z
LAST-MODIFIED:20250327T080635Z
UID:10002931-1746979200-1746982800@dortmundmitkind.de
SUMMARY:GRUSEL - Live-HÃ¶rspiel fÃ¼r blinde und sehende Menschen
DESCRIPTION:In diesem theatralen Live-HÃ¶rspiel ziehen die Besucherinnen und Besucher aus\, das Gruseln zu lernen. Das Performancekollektiv pulk fiktion will in Zusammenarbeit mit dem Ensemble des Kinder- und Jugendtheaters dem Grusel nicht nur die Schockstarre entlocken\, sondern ihn auch neu entdecken als etwas nicht Verbotenes und zu Versteckendes\, was es loszuwerden gilt. Die Welt lehrt uns das Gruseln\, also muÌˆssen wir einen Umgang damit finden.\nDem Kollektiv geht es nie um die alleinige Furcht\, sondern immer um den gemeinsamen Schrecken und das verbindende Lachen. Kinder und Erwachsene erleben gemeinsam den SpaÃŸ und die Verunsicherung des Gruselkabinetts unmittelbar und neu. \nZwischen Geistern\, Skeletten\, FledermÃ¤usen und Monstern\, suchen wir genauso nach Ã„ngsten des Alltags\, den Schrecken unserer heutigen Welt\, um ihnen hier lustvoll einen Auftritt zu verpassen: Begegnet uns der Geist des Familienstreits oder spricht unser blutendes Herz zu uns? Fragt uns hier ein Fremder intime Dinge? Sind 1\,5 Grad mehr schon zu heiÃŸ? Wie viel weiÃŸ Siri uÌˆber uns â€“ und wer ist eigentlich Siri? \n2018 fand mit dem performativen VideowalkÂ Integration\, Baby!Â die erste Kooperation des Performancekollektivs mit dem KJT Dortmund statt. Es folgten die ProduktionÂ Homewalk â€“ eine Reise durch WohnanienÂ (2020) durch zahlreiche Wohnungen der Teilnehmenden und die performative FÃ¼hrungÂ Nachdem der Himmel glÃ¼hteÂ (2021) Ã¼ber das GelÃ¤nde der Kokerei Hansa. \nSind die Besucherinnen und Besucher nur heimliche Beobachtende\, sind sie unliebsame GaÌˆste\, die es zu verjagen gilt? Oder spielen sie in diesem Gruselkabinett womoÌˆglich eine grÃ¶ÃŸere Rolle als ihnen lieb ist?Â GruselÂ ist eine verspielt-liebevolle Einladung zum lustvollen Gruseln fÃ¼r alle ab 8 Jahren. \nHinweiseÂ zu sensiblen Inhalten und sensorischen Reizen. \nProduktionsberatung durch Access Maker von Un-Label (gefÃ¶rdert durch die Aktion Mensch\, das Ministerium fÃ¼r Kultur und Wissenschaft des Landes Nordrhein-Westfalen\, das Kulturamt der Stadt KÃ¶ln und The Power of the Arts)
URL:https://dortmundmitkind.de/event/grusel-live-hoerspiel-fuer-blinde-und-sehende-menschen/2025-05-11/2/
LOCATION:theater dortmund\, Dortmund\, Opernhaus Dortmund\, 44137
CATEGORIES:Theater,Vorlesung
END:VEVENT
BEGIN:VEVENT
DTSTART;TZID=UTC:20250209T120000
DTEND;TZID=UTC:20250209T130000
DTSTAMP:20260420T212833
CREATED:20250128T060234Z
LAST-MODIFIED:20250128T060234Z
UID:10002789-1739102400-1739106000@dortmundmitkind.de
SUMMARY:2. Sitzkissenkonzert: Jari und Jolli im Land der Streichlinge
DESCRIPTION:Auf ihrem nÃ¤chtlichen Ausflug folgen die Zwillinge Jari und Jolli einer wundersamen Melodie und gelangen dabei Ã¼ber die Kakaorutsche ins Land der Streichlinge. Dort treffen die beiden auf die frÃ¶hlichen Violinos\, Bratschello und den geheimnisvollen Cellodio. Welches Abenteuer rund um die Streichinstrumente wohl diesmal auf die beiden wartet? \nIn den Sitzkissenkonzerten erleben Kinder von drei bis sechs Jahren ein Ensemble der Dortmunder Philharmoniker und eine in Musik gepackte\, spannende und altersgerechte Geschichte zum Mitmachen auf besten PlÃ¤tzen direkt vor der BÃ¼hne. \n  \nFÃ¼r Kinderohren von 3 bis 6 Jahren \nOrt: Im Opernfoyer.
URL:https://dortmundmitkind.de/event/2-sitzkissenkonzert-jari-und-jolli-im-land-der-streichlinge/2025-02-09/2/
LOCATION:theater dortmund\, Dortmund\, Opernhaus Dortmund\, 44137
CATEGORIES:Musik,Theater
END:VEVENT
BEGIN:VEVENT
DTSTART;TZID=UTC:20241123T120000
DTEND;TZID=UTC:20241123T130000
DTSTAMP:20260420T212833
CREATED:20241106T161529Z
LAST-MODIFIED:20241106T161529Z
UID:10002058-1732363200-1732366800@dortmundmitkind.de
SUMMARY:1. Sitzkissenkonzert: Jari und Jolli auf dem Holzweg
DESCRIPTION:In dieser Saison drehen sich unsere drei Sitzkissenkonzerte um die Abenteuer der Zwillinge Jari und Jolli. Die beiden haben ein Geheimnis\, von dem noch nicht mal Ihre Eltern wissen. Nacht fÃ¼r Nacht treffen Sie sich Schlag Mitternacht im TrÃ¤umeland und gelangen Ã¼ber die Kakaorutsche in unbekannte Welten\, die es zu entdecken gilt. Am Ende der Rutsche wartet diesmal das vorwitzige Tirili und das naseweise Tirila auf die beiden\, die in einen heftigen Wettstreit darÃ¼ber geraten sind\, wer die schÃ¶nsten TÃ¶ne trÃ¤llern kann. Ob die Zwillinge den Streit schlichten kÃ¶nnen? Ein rasantes Sitzkissenkonzert rund um die Holzblasinstrumente. \nIn unseren Sitzkissenkonzerten erleben Kinder von drei bis sechs Jahren ein Ensemble der Dortmunder Philharmoniker und eine in Musik gepackte\, spannende und altersgerechte Geschichte zum Mitmachen auf besten PlÃ¤tzen direkt vor der BÃ¼hne. \n\nIhre Buchung fÃ¼r Gruppen richten Sie bitte an den Gruppenservice unter Tel. 0231/27 222 oder gruppen@theaterdo.de
URL:https://dortmundmitkind.de/event/1-sitzkissenkonzert-jari-und-jolli-auf-dem-holzweg/2024-11-23/2/
LOCATION:theater dortmund\, Dortmund\, Opernhaus Dortmund\, 44137
CATEGORIES:Drinnen
END:VEVENT
END:VCALENDAR