BEGIN:VCALENDAR
VERSION:2.0
PRODID:-//Dortmund mit Kind - ECPv6.15.20//NONSGML v1.0//EN
CALSCALE:GREGORIAN
METHOD:PUBLISH
X-ORIGINAL-URL:https://dortmundmitkind.de
X-WR-CALDESC:Veranstaltungen für Dortmund mit Kind
REFRESH-INTERVAL;VALUE=DURATION:PT1H
X-Robots-Tag:noindex
X-PUBLISHED-TTL:PT1H
BEGIN:VTIMEZONE
TZID:UTC
BEGIN:STANDARD
TZOFFSETFROM:+0000
TZOFFSETTO:+0000
TZNAME:UTC
DTSTART:20230101T000000
END:STANDARD
END:VTIMEZONE
BEGIN:VEVENT
DTSTART;TZID=UTC:20241212T160000
DTEND;TZID=UTC:20241212T173000
DTSTAMP:20260419T183632
CREATED:20241108T083144Z
LAST-MODIFIED:20241112T191540Z
UID:10002069-1734019200-1734024600@dortmundmitkind.de
SUMMARY:Besuch vom Weihnachtsmann in SPARBAU Wohngebieten
DESCRIPTION:Die Adventszeit steht für Vorfreude – ganz besonders auch in SPARBAU Wohngebieten! \nDer Weihnachtsmann bringt für alle Kinder etwas mit\, wenn er persönlich zahlreiche Viertel besucht.  \nBei seinem Besuch sorgt er für eine festliche Atmosphäre\, die sowohl die Kleinen als auch die Großen begeistert.  \nDie von der SPARBAU Stiftung organisierten Veranstaltungen heißen nicht nur die Kinder von Genossenschaftsmitgliedern willkommen – alle Kinder sind eingeladen\, auch ihre Freund:innen aus dem Kindergarten oder der Schule mitzubringen und gemeinsam teilzunehmen! 
URL:https://dortmundmitkind.de/event/besuch-vom-weihnachtsmann-3/
LOCATION:SPARBAU Bodelschwingh\, Wostok Markt – Wattenscheidskamp 12)\, Dortmund\, 44357
CATEGORIES:Weihnachten
END:VEVENT
END:VCALENDAR