BEGIN:VCALENDAR
VERSION:2.0
PRODID:-//Dortmund mit Kind - ECPv6.15.20//NONSGML v1.0//EN
CALSCALE:GREGORIAN
METHOD:PUBLISH
X-WR-CALNAME:Dortmund mit Kind
X-ORIGINAL-URL:https://dortmundmitkind.de
X-WR-CALDESC:Veranstaltungen für Dortmund mit Kind
REFRESH-INTERVAL;VALUE=DURATION:PT1H
X-Robots-Tag:noindex
X-PUBLISHED-TTL:PT1H
BEGIN:VTIMEZONE
TZID:UTC
BEGIN:STANDARD
TZOFFSETFROM:+0000
TZOFFSETTO:+0000
TZNAME:UTC
DTSTART:20230101T000000
END:STANDARD
END:VTIMEZONE
BEGIN:VEVENT
DTSTART;TZID=UTC:20241026T110000
DTEND;TZID=UTC:20241026T123000
DTSTAMP:20260420T235349
CREATED:20241021T091402Z
LAST-MODIFIED:20241021T091402Z
UID:10001905-1729940400-1729945800@dortmundmitkind.de
SUMMARY:Schuhe und Schlagzeug - »MACH MUSIK!«
DESCRIPTION:Musikinstrumente spielerisch leicht SELBST ausprobieren an Samstag-Vormittagen mitten in den jeweiligen Geschäften. Mit vor Ort sind dann jeweils Lehrer:innen von DORTMUND MUSIK … frei unter dem Motto: »MACH MUSIK!«.
URL:https://dortmundmitkind.de/event/schuhe-und-schlagzeug-mach-musik/
LOCATION:Schuhhaus Vogelsang\, Westenhellweg 28\, Dortmund\, 44137
CATEGORIES:Kreativität
END:VEVENT
END:VCALENDAR