BEGIN:VCALENDAR
VERSION:2.0
PRODID:-//Dortmund mit Kind - ECPv6.15.20//NONSGML v1.0//EN
CALSCALE:GREGORIAN
METHOD:PUBLISH
X-WR-CALNAME:Dortmund mit Kind
X-ORIGINAL-URL:https://dortmundmitkind.de
X-WR-CALDESC:Veranstaltungen für Dortmund mit Kind
REFRESH-INTERVAL;VALUE=DURATION:PT1H
X-Robots-Tag:noindex
X-PUBLISHED-TTL:PT1H
BEGIN:VTIMEZONE
TZID:UTC
BEGIN:STANDARD
TZOFFSETFROM:+0000
TZOFFSETTO:+0000
TZNAME:UTC
DTSTART:20230101T000000
END:STANDARD
END:VTIMEZONE
BEGIN:VEVENT
DTSTART;TZID=UTC:20250518T100000
DTEND;TZID=UTC:20250518T130000
DTSTAMP:20260420T170332
CREATED:20250514T123514Z
LAST-MODIFIED:20250514T123514Z
UID:10003012-1747562400-1747573200@dortmundmitkind.de
SUMMARY:Kindertrödelmarkt
DESCRIPTION:
URL:https://dortmundmitkind.de/event/kindertroedelmarkt-2/
LOCATION:schönste zeit\, Stockumer Str. 425/427\, Dortmund\, 44227
CATEGORIES:Flohmarkt
END:VEVENT
BEGIN:VEVENT
DTSTART;TZID=UTC:20250518T100000
DTEND;TZID=UTC:20250518T130000
DTSTAMP:20260420T170332
CREATED:20250410T075457Z
LAST-MODIFIED:20250410T075457Z
UID:10002964-1747562400-1747573200@dortmundmitkind.de
SUMMARY:Trödelmarkt in der Schönsten Zeit
DESCRIPTION:Getrödelt wird alles &#8222;RUND UMS KIND&#8220; und es wird wieder ein tolles Rahmenprogramm mit Kinderschminken geben.\nSelbstverständlich werden wir auch wieder Waffeln backen. \nKommt alle vorbei und erzählt es weiter. \n&#8230; und es gibt auch noch ein paar Standplätze.\n( 15\,&#8211; EUR für 2 Meter &#8211; Tische müssen mitgebacht werden- meldet euch dafür per Mail info@schoenstezeit-dortmund.de )
URL:https://dortmundmitkind.de/event/troedelmarkt-in-der-schoensten-zeit/
LOCATION:schönste zeit\, Stockumer Str. 425/427\, Dortmund\, 44227
CATEGORIES:Flohmarkt
END:VEVENT
BEGIN:VEVENT
DTSTART;TZID=UTC:20241121T160000
DTEND;TZID=UTC:20241121T173000
DTSTAMP:20260420T170332
CREATED:20241112T072259Z
LAST-MODIFIED:20241112T072259Z
UID:10002091-1732204800-1732210200@dortmundmitkind.de
SUMMARY:Lichterfest in der Schönsten Zeit
DESCRIPTION:In gemütlicher\, warmer Atmosphäre werden wir gemeinsam unsere Laternen strahlen lassen und ein paar Lieder singen.\nDie Schönste Zeit wird mit vielen kleinen Lichtern geschmückt und Kekse wird es auch geben. Natürlich wird der Kaffee nicht fehlen. \nWir schicken den St. Martin in die Verlängerung.\nFür alle\, die noch nicht genug haben\, denen die großen Umzüge zu anstrengend\, zu kalt oder zu voll sind\, feiern wir unser kleines Lichterfest. \nKommt vorbei !\n22.11.24 von 16:00 Uhr- 17:30 Uhr \nDie Teilnahme ist kostenlos. ( eine Anmeldung ist erforderlich )\nMeldet euch verbindlich per mail an : info@schoenstezeit-dortmund.de\n( Name\, Anzahl Kinder + Erwachsene \, evtl. HandyNr. )
URL:https://dortmundmitkind.de/event/lichterfest-in-der-schoensten-zeit/
LOCATION:schönste zeit\, Stockumer Str. 425/427\, Dortmund\, 44227
CATEGORIES:St. Martin
END:VEVENT
END:VCALENDAR