BEGIN:VCALENDAR
VERSION:2.0
PRODID:-//Dortmund mit Kind - ECPv6.15.20//NONSGML v1.0//EN
CALSCALE:GREGORIAN
METHOD:PUBLISH
X-WR-CALNAME:Dortmund mit Kind
X-ORIGINAL-URL:https://dortmundmitkind.de
X-WR-CALDESC:Veranstaltungen für Dortmund mit Kind
REFRESH-INTERVAL;VALUE=DURATION:PT1H
X-Robots-Tag:noindex
X-PUBLISHED-TTL:PT1H
BEGIN:VTIMEZONE
TZID:UTC
BEGIN:STANDARD
TZOFFSETFROM:+0000
TZOFFSETTO:+0000
TZNAME:UTC
DTSTART:20240101T000000
END:STANDARD
END:VTIMEZONE
BEGIN:VEVENT
DTSTART;TZID=UTC:20250111T130000
DTEND;TZID=UTC:20250111T180000
DTSTAMP:20260419T120603
CREATED:20250108T145945Z
LAST-MODIFIED:20250108T145945Z
UID:10002721-1736600400-1736618400@dortmundmitkind.de
SUMMARY:ROLLMEISTEREI FOR ALL GENERATIONS
DESCRIPTION:Dreh`mit uns deine Runden!\nIn coolem Ambiente und Musik kannst du und deine gesamte Familie Rollschuh- und Inlinerrunden drehen.\nTriff nette Leute und genieß einen sportlich lässigen Tag in der ROLLmeisterei.\nFür das leibliche Wohl mit Erfrischungsgetränken und Snacks ist selbstverständlich gesorgt.\nAlso save the date und check die Rollschuhe schon mal.\nÜbrigens: die3. ROLLmeisterei ist wieder kostenfrei…also sag` deinen Freunden auch Bescheid. \nIN HALLE 3 (EINGANG HALLE 2) \nEINTRITT FREI\nANMELDUNG IST NICHT ERFORDERLICH
URL:https://dortmundmitkind.de/event/rollmeisterei-for-all-generations/
LOCATION:Rohrmeisterei Schwerte\, Ruhrstraße 20\, Schwerte\, 58239
CATEGORIES:Feier,Sport
END:VEVENT
END:VCALENDAR