BEGIN:VCALENDAR
VERSION:2.0
PRODID:-//Dortmund mit Kind - ECPv6.15.20//NONSGML v1.0//EN
CALSCALE:GREGORIAN
METHOD:PUBLISH
X-ORIGINAL-URL:https://dortmundmitkind.de
X-WR-CALDESC:Veranstaltungen für Dortmund mit Kind
REFRESH-INTERVAL;VALUE=DURATION:PT1H
X-Robots-Tag:noindex
X-PUBLISHED-TTL:PT1H
BEGIN:VTIMEZONE
TZID:UTC
BEGIN:STANDARD
TZOFFSETFROM:+0000
TZOFFSETTO:+0000
TZNAME:UTC
DTSTART:20240101T000000
END:STANDARD
END:VTIMEZONE
BEGIN:VEVENT
DTSTART;TZID=UTC:20250409T150000
DTEND;TZID=UTC:20250409T170000
DTSTAMP:20260425T131642
CREATED:20250326T065502Z
LAST-MODIFIED:20250326T065502Z
UID:10002907-1744210800-1744218000@dortmundmitkind.de
SUMMARY:Kleidertauschparty in Dortmund-Dorstfeld
DESCRIPTION:Herzliche Einladung also ins Pfarrheim von St. Barbara\, Teutoburger Str. 14 (weniger Meter von der U-Bahn Haltestelle Wittener Straße) \nUnd wenn in deinem Schrank vielleicht Fehlkäufe oder geliebte Teile (denen du “entwachsen” bist) liegen\, dann wäre es doch schade\, dass diese weiter deinen Schrank verstopfen. Schon mal daran gedacht\, diese Schätze zu tauschen? Denn möglicherweise gibt es Menschen\, die genau nach dem suchen\, was du aussortieren magst. Und umgekehrt! \nEs gibt keine strenge Tauschlogik und auch wer nichts mitbringt\, kann sich natürlich trotzdem umschauen und etwas mitnehmen. Es gibt mehrere Umkleide Möglichkeiten – nimm also nichts mit\, dass du nicht auch anprobiert hast und wo du weißt\, es passt und steht dir gut! \nWir bitten allerdings um folgendes:\n– Nur saubere Textilien abgeben!\n– Nicht mehr als 10 Teile pro Person\nWas wir nicht mitzählen\, was aber gerne mitgebracht werden kann sind: Schmuck\, Schuhe und Taschen! \nABER Pelz\, Unterwäsche\, Badesachen\, Kindersachen und Socken nehmen wir nicht an.
URL:https://dortmundmitkind.de/event/kleidertauschparty-in-dortmund-dorstfeld/
LOCATION:Pfarrheim von St. Barbara\, Teutoburger Str. 14\, Dortmund
CATEGORIES:Flohmarkt,Flohmarkt
END:VEVENT
END:VCALENDAR