BEGIN:VCALENDAR
VERSION:2.0
PRODID:-//Dortmund mit Kind - ECPv6.15.20//NONSGML v1.0//EN
CALSCALE:GREGORIAN
METHOD:PUBLISH
X-WR-CALNAME:Dortmund mit Kind
X-ORIGINAL-URL:https://dortmundmitkind.de
X-WR-CALDESC:Veranstaltungen für Dortmund mit Kind
REFRESH-INTERVAL;VALUE=DURATION:PT1H
X-Robots-Tag:noindex
X-PUBLISHED-TTL:PT1H
BEGIN:VTIMEZONE
TZID:UTC
BEGIN:STANDARD
TZOFFSETFROM:+0000
TZOFFSETTO:+0000
TZNAME:UTC
DTSTART:20230101T000000
END:STANDARD
END:VTIMEZONE
BEGIN:VEVENT
DTSTART;TZID=UTC:20241224T143000
DTEND;TZID=UTC:20241224T153000
DTSTAMP:20260420T193608
CREATED:20241220T195251Z
LAST-MODIFIED:20241220T195251Z
UID:10002590-1735050600-1735054200@dortmundmitkind.de
SUMMARY:Krippenfeier
DESCRIPTION:
URL:https://dortmundmitkind.de/event/krippenfeier-2/
LOCATION:Pastoraler Raum Pfarrei St.Ewaldi\, Egbertstraße 15\, Dortmund\, 44287
CATEGORIES:Weihnachten
END:VEVENT
END:VCALENDAR