BEGIN:VCALENDAR
VERSION:2.0
PRODID:-//Dortmund mit Kind - ECPv6.15.20//NONSGML v1.0//EN
CALSCALE:GREGORIAN
METHOD:PUBLISH
X-ORIGINAL-URL:https://dortmundmitkind.de
X-WR-CALDESC:Veranstaltungen für Dortmund mit Kind
REFRESH-INTERVAL;VALUE=DURATION:PT1H
X-Robots-Tag:noindex
X-PUBLISHED-TTL:PT1H
BEGIN:VTIMEZONE
TZID:UTC
BEGIN:STANDARD
TZOFFSETFROM:+0000
TZOFFSETTO:+0000
TZNAME:UTC
DTSTART:20230101T000000
END:STANDARD
END:VTIMEZONE
BEGIN:VEVENT
DTSTART;TZID=UTC:20241109T170000
DTEND;TZID=UTC:20241109T190000
DTSTAMP:20260425T202041
CREATED:20241105T134312Z
LAST-MODIFIED:20241108T080440Z
UID:10002037-1731171600-1731178800@dortmundmitkind.de
SUMMARY:Martinsumzug
DESCRIPTION:
URL:https://dortmundmitkind.de/event/martinsumzug/
LOCATION:Natürlich Kind\, Hügelstraße 25\, Dortmund\, 44149
CATEGORIES:St. Martin
END:VEVENT
END:VCALENDAR