BEGIN:VCALENDAR
VERSION:2.0
PRODID:-//Dortmund mit Kind - ECPv6.15.20//NONSGML v1.0//EN
CALSCALE:GREGORIAN
METHOD:PUBLISH
X-WR-CALNAME:Dortmund mit Kind
X-ORIGINAL-URL:https://dortmundmitkind.de
X-WR-CALDESC:Veranstaltungen für Dortmund mit Kind
REFRESH-INTERVAL;VALUE=DURATION:PT1H
X-Robots-Tag:noindex
X-PUBLISHED-TTL:PT1H
BEGIN:VTIMEZONE
TZID:UTC
BEGIN:STANDARD
TZOFFSETFROM:+0000
TZOFFSETTO:+0000
TZNAME:UTC
DTSTART:20230101T000000
END:STANDARD
END:VTIMEZONE
BEGIN:VEVENT
DTSTART;TZID=UTC:20241116T110000
DTEND;TZID=UTC:20241116T123000
DTSTAMP:20260425T132816
CREATED:20241112T070406Z
LAST-MODIFIED:20241112T070406Z
UID:10002088-1731754800-1731760200@dortmundmitkind.de
SUMMARY:»MACH MUSIK!« ELEKTRONIK & E-GITARRE
DESCRIPTION:.. dieses Mal wird´s ELEKTRISCH! plus Mini-Konzert! &#8230; unsere Kooperation mit DORTMUND MUSIK (ehemals Musikschule Dortmund): Dieses Mal sind die DORTMUND MUSIK-Kolleg:innen zu Gast bei Nachrichtentechnik Weiss: \n»MACH MUSIK!«\nELEKTRONIK & E-GITARRE\nDiesen Samstag\, 16.11.2024\,\n11:00 Uhr bis 12:30 Uhr\nbei Nachrichtentechnik Weiss\nRuhrallee 55\, 44139 Dortmund \n&#8230; einfach mal ´ne E-Gitarre ausprobieren! (und keiner meckert!) &#8230; und am Anfang ab ca. 11:15 Uhr gibt es sogar ein kleines Konzert von den anwesenden Musiker:innen\, allen voran der DORTMUND MUSIK-Lehrer Guido Pyka. Seid dabei!
URL:https://dortmundmitkind.de/event/mach-musik-elektronik-e-gitarre/
LOCATION:Nachrichtentechnik Weiss\, Ruhrallee 55\,\, Dortmund\, 44139
CATEGORIES:Musik
END:VEVENT
END:VCALENDAR