BEGIN:VCALENDAR
VERSION:2.0
PRODID:-//Dortmund mit Kind - ECPv6.15.20//NONSGML v1.0//EN
CALSCALE:GREGORIAN
METHOD:PUBLISH
X-ORIGINAL-URL:https://dortmundmitkind.de
X-WR-CALDESC:Veranstaltungen für Dortmund mit Kind
REFRESH-INTERVAL;VALUE=DURATION:PT1H
X-Robots-Tag:noindex
X-PUBLISHED-TTL:PT1H
BEGIN:VTIMEZONE
TZID:UTC
BEGIN:STANDARD
TZOFFSETFROM:+0000
TZOFFSETTO:+0000
TZNAME:UTC
DTSTART:20230101T000000
END:STANDARD
END:VTIMEZONE
BEGIN:VEVENT
DTSTART;TZID=UTC:20241205T163000
DTEND;TZID=UTC:20241205T180000
DTSTAMP:20260419T183442
CREATED:20241008T084140Z
LAST-MODIFIED:20241008T084140Z
UID:10001331-1733416200-1733421600@dortmundmitkind.de
SUMMARY:Lesen\, Spielen\, kreativ sein
DESCRIPTION:Lesen\, Spielen\, kreativ sein – für Familien & andere Interessierte in \nNachbarschaftsinitiative Geßlerstraße 2 \nWirlesen zusammen\, probieren Spiele aus und / oder werden kreativ. \nBitte melden Sie sich im Familienbüro an: familienbüro-innenstadt-ost@stadtdo.de oder 0231/ 5029569.
URL:https://dortmundmitkind.de/event/lesen-spielen-kreativ-sein/
LOCATION:Nachbarschaftsinitiative Geßlerstraße\, Geßlerstraße 2\, Dortmund\, 44141
CATEGORIES:Drinnen
END:VEVENT
BEGIN:VEVENT
DTSTART;TZID=UTC:20241024T163000
DTEND;TZID=UTC:20241024T180000
DTSTAMP:20260419T183442
CREATED:20241008T082213Z
LAST-MODIFIED:20241008T082213Z
UID:10001330-1729787400-1729792800@dortmundmitkind.de
SUMMARY:Lese- und Kreativangebot zum Thema Herbst
DESCRIPTION:Lese- und Kreativangebot zum Thema Herbst in der Nachbarschaftsinitiative Geßlerstraße \nGemeinsam wollen wir eine Geschichte lesen und dann etwas basteln / malen. Bringen Sie gern getrocknete \nBlätter mit. \nUm Anmeldung mit der Anzahl und dem Alter der teilnehmenden Kinder wird gebeten: familienbüro-innenstadt-ost@stadtdo.de oder 0231/ 50 29569.
URL:https://dortmundmitkind.de/event/lese-und-kreativangebot-zum-thema-herbst-2/
LOCATION:Nachbarschaftsinitiative Geßlerstraße\, Geßlerstraße 2\, Dortmund\, 44141
CATEGORIES:Drinnen,Kreativität
END:VEVENT
END:VCALENDAR