BEGIN:VCALENDAR
VERSION:2.0
PRODID:-//Dortmund mit Kind - ECPv6.15.20//NONSGML v1.0//EN
CALSCALE:GREGORIAN
METHOD:PUBLISH
X-ORIGINAL-URL:https://dortmundmitkind.de
X-WR-CALDESC:Veranstaltungen für Dortmund mit Kind
REFRESH-INTERVAL;VALUE=DURATION:PT1H
X-Robots-Tag:noindex
X-PUBLISHED-TTL:PT1H
BEGIN:VTIMEZONE
TZID:UTC
BEGIN:STANDARD
TZOFFSETFROM:+0000
TZOFFSETTO:+0000
TZNAME:UTC
DTSTART:20240101T000000
END:STANDARD
END:VTIMEZONE
BEGIN:VEVENT
DTSTART;TZID=UTC:20250515T163000
DTEND;TZID=UTC:20250515T180000
DTSTAMP:20260420T105714
CREATED:20250514T123131Z
LAST-MODIFIED:20250514T123131Z
UID:10003011-1747326600-1747332000@dortmundmitkind.de
SUMMARY:Bilderbuchkino "Die Konferenz der Tiere"
DESCRIPTION:Beim dritten Teil des Bilderbuchkinos &#8222;Die Konferenz der Tiere&#8220; gibt es noch freie Plätze. Neben dem Erzählen der Geschichte\, werden  Papier-Papageien gebastelt. Die Veranstaltung findet am 15.05. um 16:30 Uhr in der Nachbarschaftsinitiative &#8222;Extrazeit&#8220; in der Geßlerstraße 2 statt. Bitte melden Sie sich bei mir mit Anzahl und Alter der teilnehmenden Kinder an.
URL:https://dortmundmitkind.de/event/bilderbuchkino-die-konferenz-der-tiere/2025-05-15/2/
LOCATION:nachbarschaftsinitiative &#8222;Extrazeit&#8220;\, Geßlerstraße 2\, Dortmund
CATEGORIES:Bildung,Vorlesung
END:VEVENT
END:VCALENDAR