BEGIN:VCALENDAR
VERSION:2.0
PRODID:-//Dortmund mit Kind - ECPv6.15.20//NONSGML v1.0//EN
CALSCALE:GREGORIAN
METHOD:PUBLISH
X-ORIGINAL-URL:https://dortmundmitkind.de
X-WR-CALDESC:Veranstaltungen für Dortmund mit Kind
REFRESH-INTERVAL;VALUE=DURATION:PT1H
X-Robots-Tag:noindex
X-PUBLISHED-TTL:PT1H
BEGIN:VTIMEZONE
TZID:UTC
BEGIN:STANDARD
TZOFFSETFROM:+0000
TZOFFSETTO:+0000
TZNAME:UTC
DTSTART:20240101T000000
END:STANDARD
END:VTIMEZONE
BEGIN:VEVENT
DTSTART;TZID=UTC:20250315T140000
DTEND;TZID=UTC:20250315T170000
DTSTAMP:20260419T154353
CREATED:20250313T064930Z
LAST-MODIFIED:20250313T064930Z
UID:10002894-1742047200-1742058000@dortmundmitkind.de
SUMMARY:Druckwerkstatt für Klein und Groß
DESCRIPTION:Inspiriert durch die Ausstellung Künstlerinnen in Expressionismus und Fluxus – „Tell these people who I am“ lernt ihr unterschiedliche Drucktechniken kennen und bekommt die Möglichkeit\, kreativ mit euren Entwürfen zu experimentieren. \nMit Eintrittskarte kostenfrei\nAnmeldung unter mo.bildung@stadtdo.de
URL:https://dortmundmitkind.de/event/druckwerkstatt-fuer-klein-und-gross/2025-03-15/2/
LOCATION:Museum Ostwall im Dortmunder U\, Leonie-Reygers-Terrasse 2\, Dortmund\, 44137
CATEGORIES:Basteln,Kreativität
END:VEVENT
BEGIN:VEVENT
DTSTART;TZID=UTC:20250315T080000
DTEND;TZID=UTC:20250315T170000
DTSTAMP:20260419T154353
CREATED:20250313T064930Z
LAST-MODIFIED:20250313T064930Z
UID:10002893-1742025600-1742058000@dortmundmitkind.de
SUMMARY:Druckwerkstatt für Klein und Groß
DESCRIPTION:Inspiriert durch die Ausstellung Künstlerinnen in Expressionismus und Fluxus – „Tell these people who I am“ lernt ihr unterschiedliche Drucktechniken kennen und bekommt die Möglichkeit\, kreativ mit euren Entwürfen zu experimentieren. \nMit Eintrittskarte kostenfrei\nAnmeldung unter mo.bildung@stadtdo.de
URL:https://dortmundmitkind.de/event/druckwerkstatt-fuer-klein-und-gross/2025-03-15/1/
LOCATION:Museum Ostwall im Dortmunder U\, Leonie-Reygers-Terrasse 2\, Dortmund\, 44137
CATEGORIES:Basteln,Kreativität
END:VEVENT
BEGIN:VEVENT
DTSTART;TZID=UTC:20250111T140000
DTEND;TZID=UTC:20250111T170000
DTSTAMP:20260419T154353
CREATED:20250103T214451Z
LAST-MODIFIED:20250103T214451Z
UID:10002693-1736604000-1736614800@dortmundmitkind.de
SUMMARY:Kreativaktion für Familien: Fotoatelier für Klein und Groß
DESCRIPTION:Mit Eintrittskarte kostenfrei\, Anmeldung unter mo.bildung@stadtdo.de
URL:https://dortmundmitkind.de/event/kreativaktion-fuer-familien-fotoatelier-fuer-klein-und-gross/
LOCATION:Museum Ostwall im Dortmunder U\, Leonie-Reygers-Terrasse 2\, Dortmund\, 44137
CATEGORIES:Bildung,Kreativität
END:VEVENT
END:VCALENDAR