BEGIN:VCALENDAR
VERSION:2.0
PRODID:-//Dortmund mit Kind - ECPv6.15.20//NONSGML v1.0//EN
CALSCALE:GREGORIAN
METHOD:PUBLISH
X-ORIGINAL-URL:https://dortmundmitkind.de
X-WR-CALDESC:Veranstaltungen für Dortmund mit Kind
REFRESH-INTERVAL;VALUE=DURATION:PT1H
X-Robots-Tag:noindex
X-PUBLISHED-TTL:PT1H
BEGIN:VTIMEZONE
TZID:UTC
BEGIN:STANDARD
TZOFFSETFROM:+0000
TZOFFSETTO:+0000
TZNAME:UTC
DTSTART:20230101T000000
END:STANDARD
END:VTIMEZONE
BEGIN:VEVENT
DTSTART;TZID=UTC:20250518T110000
DTEND;TZID=UTC:20250518T170000
DTSTAMP:20260420T103537
CREATED:20250514T122610Z
LAST-MODIFIED:20250514T122610Z
UID:10003008-1747566000-1747587600@dortmundmitkind.de
SUMMARY:DEW21-Familientag: Meine Stadt – mein Wasser
DESCRIPTION:am 18. Mai 2025 ist Internationaler Museumstag – und das feiern wir im mondo mio! Kindermuseum mit einem besonderen Familientag rund um das Thema Wasser. Am DEW21-Familientag bieten abwechslungsreiche Mitmach-Stationen die Möglichkeit\, zu tüfteln und zu experimentieren. \n\nWasser ist überall! Wir trinken es\, nutzen es zum Waschen\, Kochen und Putzen. Es fließt durch jede Straße und jedes Haus in unserer Stadt. Aber wo kommt unser Wasser eigentlich her? Was passiert mit dem Wasser\, nachdem es im Abfluss verschwunden ist? Und wie wird schmutziges Wasser wieder sauber? Am Familientag bauen Familien mit einfachen Materialien wie Steinen\, Sand und Watte ein eigenes Klärwerk. Durch das spannende Experiment erfahren kleine und große Kinder spielerisch wie Wasser gefiltert und gereinigt werden kann. \nDarüber hinaus warten an mehreren Stationen unterhaltsame Wasserversuche – von der schwimmenden Büroklammer über die Wasserlupe bis hin zum Wasserverbiegen. Hier darf ausprobiert und gestaunt werden.
URL:https://dortmundmitkind.de/event/dew21-familientag-meine-stadt-mein-wasser/
LOCATION:mondo mio! Kindermuseum im Westfalenpark\, Florianstr. 2\, Dortmund\, 44139
CATEGORIES:Ausstellung,Bildung
END:VEVENT
BEGIN:VEVENT
DTSTART;TZID=UTC:20250504T110000
DTEND;TZID=UTC:20250504T123000
DTSTAMP:20260420T103537
CREATED:20250501T102149Z
LAST-MODIFIED:20250501T102149Z
UID:10003007-1746356400-1746361800@dortmundmitkind.de
SUMMARY:mondos Atelier | Faszinierende Korallenwelt
DESCRIPTION:Eine bunte Unterwasserwelt entsteht: Im mondo mio! Kindermuseum basteln Kinder und Familien aus Pappe und Karton einzigartige Korallen und setzen sie zu einer fantasievollen Landschaft zusammen. Ein kreatives Erlebnis für Groß und Klein.
URL:https://dortmundmitkind.de/event/mondos-atelier-faszinierende-korallenwelt/
LOCATION:mondo mio! Kindermuseum im Westfalenpark\, Florianstr. 2\, Dortmund\, 44139
CATEGORIES:Ausstellung,Drinnen
END:VEVENT
BEGIN:VEVENT
DTSTART;TZID=UTC:20250330T110000
DTEND;TZID=UTC:20250330T170000
DTSTAMP:20260420T103537
CREATED:20250218T132843Z
LAST-MODIFIED:20250218T132843Z
UID:10002852-1743332400-1743354000@dortmundmitkind.de
SUMMARY:mondos Atelier | Miniwesen mit Megakräften
DESCRIPTION:mondos Atelier bietet kleinen und großen Kreativen an jedem März-Sonntag die Möglichkeit\, die Welt der Mikroben zu entdecken und eigene Miniwesen mit erstaunlichen Fähigkeiten zu gestalten. Ob superstark\, unverwundbar oder heilend – welche Superkräfte sollen eure Mikroben haben? Und wie sehen sie aus? Mit viel Fantasie und nachhaltigen Upcycling-Materialien entstehen einzigartige Miniwesen mit Megakräften. \n11 &#8211; 12.30 Uhr\, 13.30 &#8211; 15 Uhr und 15.30 &#8211; 17 Uhr | empfohlen ab vier Jahre | Das Angebot ist für Familien im Westfalenpark kostenlos
URL:https://dortmundmitkind.de/event/mondos-atelier-miniwesen-mit-megakraeften/2025-03-30/
LOCATION:mondo mio! Kindermuseum im Westfalenpark\, Florianstr. 2\, Dortmund\, 44139
CATEGORIES:Ausstellung,Bildung
END:VEVENT
BEGIN:VEVENT
DTSTART;TZID=UTC:20250322T133000
DTEND;TZID=UTC:20250322T170000
DTSTAMP:20260420T103537
CREATED:20250218T133520Z
LAST-MODIFIED:20250218T133520Z
UID:10002854-1742650200-1742662800@dortmundmitkind.de
SUMMARY:Mitmach-Lesung: „Tortü und der Traumkoffer“
DESCRIPTION:Am 22. März 2025 lädt das mondo mio! Kindermuseum gemeinsam mit Polylino um 13.30 Uhr zu einer interaktiven Lesung mit der Autorin Nadine Marchi ein. Sie liest aus ihrem bezaubernden Bilderbuch „Tortü und der Traumkoffer“ und nimmt Kinder ab vier Jahren mit auf eine abenteuerliche Traumreise. Die Geschichte erzählt von der Schildkröte Tortü\, die mit Hilfe eines magischen Traumkoffers lernt\, ihren Träumen zu folgen – und dabei entdeckt\, wie wichtig Mut und Freundschaft sind. \nIm Anschluss an die Lesung haben alle Gäste die Möglichkeit\, die neue Sonderausstellung „unSICHTBAR verbunden. Im Wasser“ zu erkunden. \n\nSa 22.03. | 13.30 bis 17 Uhr | Dauer: Lesung etwa 60 Minuten im Anschluss Ausstellungserkundung | empfohlen ab vier Jahre | Anmeldung auf www.mondomio.de | max. 50 Personen | Die Lesung ist für Familien im Westfalenpark kostenlos.
URL:https://dortmundmitkind.de/event/mitmach-lesung-tortue-und-der-traumkoffer/
LOCATION:mondo mio! Kindermuseum im Westfalenpark\, Florianstr. 2\, Dortmund\, 44139
CATEGORIES:Ausstellung,Vorlesung
END:VEVENT
BEGIN:VEVENT
DTSTART;TZID=UTC:20250309T110000
DTEND;TZID=UTC:20250309T170000
DTSTAMP:20260420T103537
CREATED:20250218T134132Z
LAST-MODIFIED:20250218T134132Z
UID:10002855-1741518000-1741539600@dortmundmitkind.de
SUMMARY:unSICHTBAR verbunden. Im Wasser.
DESCRIPTION:Sie sind winzig\, vielfältig und haben Superkräfte. Unsere Welt ist voll von kleinen\, erstaunlichen Lebewesen\, die man nur unter dem Mikroskop erkennen kann. Diese Mikroorganismen gibt es überall\, ohne sie wäre das Leben auf unserem Planeten unmöglich. \nDie Mitmach-Ausstellung „unSICHTBAR verbunden“ nimmt Kinder und Familien mit auf eine Forschungsreise unter Wasser. Im mondo mio! Kindermuseum tauchen die Besucher*innen in die unsichtbare Welt der kleinsten Lebewesen ein und erfahren\, wie unser Leben mit ihrem verbunden ist\, welchen Einfluss sie auf das Klima\, unser Wohlergehen und die Zukunft haben.
URL:https://dortmundmitkind.de/event/unsichtbar-verbunden-im-wasser/
LOCATION:mondo mio! Kindermuseum im Westfalenpark\, Florianstr. 2\, Dortmund\, 44139
CATEGORIES:Ausstellung,Bildung
END:VEVENT
BEGIN:VEVENT
DTSTART;TZID=UTC:20241012T110000
DTEND;TZID=UTC:20241012T133000
DTSTAMP:20260420T103537
CREATED:20241009T081057Z
LAST-MODIFIED:20241030T195924Z
UID:10001797-1728730800-1728739800@dortmundmitkind.de
SUMMARY:das DING. umORDNUNG im MUSEUM
DESCRIPTION:mondo mio! krempelt das Museum um und zeigt\, was sonst im Verborgenen schlummert. Die Ausstellung lädt Kinder ab vier Jahren und ihre Familien zu Entdeckungsreisen durch die Museumssammlung ein\, zum Staunen\, Stöbern und Neuordnen. Wie kniffelig und lustig die Arbeit in einem Museum sein kann\, zeigt „das DING“. \nDer Preis ist im Parkticket inbegriffen.
URL:https://dortmundmitkind.de/event/das-ding-umordnung-im-museum/
LOCATION:mondo mio! Kindermuseum im Westfalenpark\, Florianstr. 2\, Dortmund\, 44139
CATEGORIES:Drinnen
END:VEVENT
END:VCALENDAR