BEGIN:VCALENDAR
VERSION:2.0
PRODID:-//Dortmund mit Kind - ECPv6.15.20//NONSGML v1.0//EN
CALSCALE:GREGORIAN
METHOD:PUBLISH
X-WR-CALNAME:Dortmund mit Kind
X-ORIGINAL-URL:https://dortmundmitkind.de
X-WR-CALDESC:Veranstaltungen für Dortmund mit Kind
REFRESH-INTERVAL;VALUE=DURATION:PT1H
X-Robots-Tag:noindex
X-PUBLISHED-TTL:PT1H
BEGIN:VTIMEZONE
TZID:UTC
BEGIN:STANDARD
TZOFFSETFROM:+0000
TZOFFSETTO:+0000
TZNAME:UTC
DTSTART:20240101T000000
END:STANDARD
END:VTIMEZONE
BEGIN:VEVENT
DTSTART;TZID=UTC:20250414T100000
DTEND;TZID=UTC:20250414T120000
DTSTAMP:20260425T155432
CREATED:20250127T100800Z
LAST-MODIFIED:20250127T100800Z
UID:10002776-1744624800-1744632000@dortmundmitkind.de
SUMMARY:OSTER-BASTELN
DESCRIPTION:Das Osterfest steht vor der Tür! Zusammen mit Euren\nKindern wollen wir uns zum gemeinsamen Eier färben\nund nettem Beisammensein bei Kaffee und Keksen in\nHörde treffen.\nMontag\, 14. April von 10-12 Uhr\nOrt: Mehrgenerationenhaus B3\,\nNiederhofener Str. 52 in Hörde
URL:https://dortmundmitkind.de/event/oster-basteln/
LOCATION:Mehrgenerationenhaus B3\, Niederhofener Str. 52\, Dortmund
CATEGORIES:Ostern
END:VEVENT
BEGIN:VEVENT
DTSTART;TZID=UTC:20250224T100000
DTEND;TZID=UTC:20250224T120000
DTSTAMP:20260425T155432
CREATED:20250127T101248Z
LAST-MODIFIED:20250127T101248Z
UID:10002777-1740391200-1740398400@dortmundmitkind.de
SUMMARY:Karneval
DESCRIPTION:
URL:https://dortmundmitkind.de/event/karneval/
LOCATION:Mehrgenerationenhaus B3\, Niederhofener Str. 52\, Dortmund
CATEGORIES:Karneval
END:VEVENT
END:VCALENDAR