BEGIN:VCALENDAR
VERSION:2.0
PRODID:-//Dortmund mit Kind - ECPv6.15.20//NONSGML v1.0//EN
CALSCALE:GREGORIAN
METHOD:PUBLISH
X-WR-CALNAME:Dortmund mit Kind
X-ORIGINAL-URL:https://dortmundmitkind.de
X-WR-CALDESC:Veranstaltungen fÃ¼r Dortmund mit Kind
REFRESH-INTERVAL;VALUE=DURATION:PT1H
X-Robots-Tag:noindex
X-PUBLISHED-TTL:PT1H
BEGIN:VTIMEZONE
TZID:UTC
BEGIN:STANDARD
TZOFFSETFROM:+0000
TZOFFSETTO:+0000
TZNAME:UTC
DTSTART:20230101T000000
END:STANDARD
END:VTIMEZONE
BEGIN:VEVENT
DTSTART;TZID=UTC:20250126T110000
DTEND;TZID=UTC:20250126T150000
DTSTAMP:20260421T142243
CREATED:20250114T092116Z
LAST-MODIFIED:20250114T092116Z
UID:10002741-1737889200-1737903600@dortmundmitkind.de
SUMMARY:Familiensonntag
DESCRIPTION:Immer am vierten Sonntag im Monat laden wir Kinder ab 6 Jahren in Begleitung eines Erwachsenen auf die Zeche Zollern ein. \n11.30 Uhr FamilienfÃ¼hrung &#8222;Weg des Bergmanns&#8220;: Kleine und groÃŸe GÃ¤ste erfahren mehr Ã¼ber den Arbeitsalltag der Bergleute\, die Arbeit unter Tage und die Funktionsweise eines Steinkohlebergwerks. \n13 &#8211; 15 Uhr Kinderwerkstatt: Dieses Mal wird ein buntes Grubenhalstuch gebastelt.\nPro Kind fallen fÃ¼r die Teilnahme 3 Euro Materialkosten an.
URL:https://dortmundmitkind.de/event/familiensonntag-4/
LOCATION:LWL-Museum Zeche Zollern\, Grubenweg 5\, Dortmund\, 44388
CATEGORIES:Ausstellung,Bildung
END:VEVENT
BEGIN:VEVENT
DTSTART;TZID=UTC:20250118T140000
DTEND;TZID=UTC:20250118T150000
DTSTAMP:20260421T142243
CREATED:20241211T105125Z
LAST-MODIFIED:20241211T105126Z
UID:10002570-1737208800-1737212400@dortmundmitkind.de
SUMMARY:Das ist kolonial.  Kinder- und FamilienfÃ¼hrung
DESCRIPTION:Gemeinsam mit den KÃ¼nstlerinnen und Aktivistinnen Phyllis Quartey und Zola Wiegand-M&#8217;Pembele begeben sich Kinder ab 7 Jahren in Begleitung eines Erwachsenen auf Spurensuche. Welche Schwarzen Menschen haben in der Zeit des Kolonialismus in Westfalen gelebt? Wie verlief ihr Leben hier? Warum ist es wichtig\, gemeinsam Ã¼ber das Thema Kolonialismus zu sprechen? \nDie FÃ¼hrung richtet sich an Familien aus den BPoC-Communities. \nAnmeldung: Per Mail an postkoloniales-westfalen@lwl.org \nKosten / Eintritt: \nNur Eintritt (Kinder frei)
URL:https://dortmundmitkind.de/event/das-ist-kolonial-kinder-und-familienfuehrung-2/
LOCATION:LWL-Museum Zeche Zollern\, Grubenweg 5\, Dortmund\, 44388
CATEGORIES:Ausstellung
END:VEVENT
BEGIN:VEVENT
DTSTART;TZID=UTC:20241215T100000
DTEND;TZID=UTC:20241215T180000
DTSTAMP:20260421T142243
CREATED:20241030T121412Z
LAST-MODIFIED:20241211T104258Z
UID:10002569-1734256800-1734285600@dortmundmitkind.de
SUMMARY:Familiensonntag
DESCRIPTION:12 Uhr FamilienfÃ¼hrung &#8222;Weg des Bergmanns&#8220;: GroÃŸe und kleine GÃ¤ste bekommen einen Einblick in den Arbeitsalltag der Bergleute und die Funktionsweise der Zeche. \n13 -15 Uhr Kinderwerkstatt: Gebastelt werden bunte Halterungen fÃ¼r MeisenknÃ¶del\n(Kosten 3 Euro pro Kind).
URL:https://dortmundmitkind.de/event/familiensonntag-2/2024-12-15/
LOCATION:LWL-Museum Zeche Zollern\, Grubenweg 5\, Dortmund\, 44388
CATEGORIES:Basteln,Bildung,KreativitÃ¤t
END:VEVENT
BEGIN:VEVENT
DTSTART;TZID=UTC:20241110T110000
DTEND;TZID=UTC:20241110T180000
DTSTAMP:20260421T142243
CREATED:20241105T133709Z
LAST-MODIFIED:20241108T200604Z
UID:10002035-1731236400-1731261600@dortmundmitkind.de
SUMMARY:KunstHandWerk - Markt fÃ¼r schÃ¶ne Dinge
DESCRIPTION:Ãœber 50 Aussteller:innen prÃ¤sentieren ihre Arbeiten aus Holz\, Glas\, Stein oder anderen Materialien im historische Ambiente der Zeche Zollern. Der Markt lÃ¤dt zum Bummeln\, Schauen und Verweilen ein und bietet darÃ¼ber hinaus sicherlich auch Inspirationen fÃ¼r eigene kreative Projekte. \n  \nKosten / Eintritt: \nErwachsene 8 Euro\, ermÃ¤ÃŸigt 4 Euro\, Gruppen ab 16 Personen 7 Euro p. P.
URL:https://dortmundmitkind.de/event/kunsthandwerk-markt-fuer-schoene-dinge/2024-11-10/
LOCATION:LWL-Museum Zeche Zollern\, Grubenweg 5\, Dortmund\, 44388
CATEGORIES:DrauÃŸen,Markt
END:VEVENT
BEGIN:VEVENT
DTSTART;TZID=UTC:20241024T110000
DTEND;TZID=UTC:20241024T160000
DTSTAMP:20260421T142243
CREATED:20241021T181714Z
LAST-MODIFIED:20241021T181714Z
UID:10001917-1729767600-1729785600@dortmundmitkind.de
SUMMARY:Bunte Steine e.V.
DESCRIPTION:Donnerstag werden wieder Steine gesteckt! Kommt vorbei und bastelt in unserer alten Verwaltung eure eigenen Skulpturen aus Lego. ðŸ¥³\nAm Ende der Aktion dÃ¼rft Ihr eure Kreationen sogar gegen eine kleine Spende mitnehmen. \nKinder und Jugendliche bis zum 17. Lebensjahr kÃ¶nnen unser Museum kostenfrei besuchen.
URL:https://dortmundmitkind.de/event/bunte-steine-e-v/
LOCATION:LWL-Museum Zeche Zollern\, Grubenweg 5\, Dortmund\, 44388
CATEGORIES:Drinnen,KreativitÃ¤t
END:VEVENT
BEGIN:VEVENT
DTSTART;TZID=UTC:20241012T100000
DTEND;TZID=UTC:20241012T140000
DTSTAMP:20260421T142243
CREATED:20241008T091432Z
LAST-MODIFIED:20241008T091432Z
UID:10001334-1728727200-1728741600@dortmundmitkind.de
SUMMARY:Erntemarkt
DESCRIPTION:Auf dem traditionellen Markt in der historischen Maschinenhalle prÃ¤sentieren private Anbieter:innen von Stauden und Ablegern Ã¼ber Obst und GemÃ¼se bis hin zu verarbeiteten Erzeugnissen wie Marmelade alles\, was der heimische Garten hergibt. Ca. 40 StÃ¤nde laden zum Schlendern\, Schauen und Austausch ein. Eine gute Gelegenheit\, sich mit Pflanzen und Informationen zur Bodenpflege sowie zu Naturprojekten fÃ¼r die kommende Saison einzudecken. \nDer Eintritt ins Museum ist den ganzen Tag Ã¼ber kostenfrei!
URL:https://dortmundmitkind.de/event/erntemarkt/
LOCATION:LWL-Museum Zeche Zollern\, Grubenweg 5\, Dortmund\, 44388
CATEGORIES:DrauÃŸen
END:VEVENT
END:VCALENDAR