BEGIN:VCALENDAR
VERSION:2.0
PRODID:-//Dortmund mit Kind - ECPv6.15.20//NONSGML v1.0//EN
CALSCALE:GREGORIAN
METHOD:PUBLISH
X-WR-CALNAME:Dortmund mit Kind
X-ORIGINAL-URL:https://dortmundmitkind.de
X-WR-CALDESC:Veranstaltungen für Dortmund mit Kind
REFRESH-INTERVAL;VALUE=DURATION:PT1H
X-Robots-Tag:noindex
X-PUBLISHED-TTL:PT1H
BEGIN:VTIMEZONE
TZID:UTC
BEGIN:STANDARD
TZOFFSETFROM:+0000
TZOFFSETTO:+0000
TZNAME:UTC
DTSTART:20230101T000000
END:STANDARD
END:VTIMEZONE
BEGIN:VEVENT
DTSTART;TZID=UTC:20241117T140000
DTEND;TZID=UTC:20241117T163000
DTSTAMP:20260425T131537
CREATED:20241112T071714Z
LAST-MODIFIED:20241112T071714Z
UID:10002090-1731852000-1731861000@dortmundmitkind.de
SUMMARY:Baby -und Familienmesse
DESCRIPTION:Im Lükaz (Kurt-Schumacher-Straße 40-42) findet am Sonntag\, 17. November\, die jährliche Baby- und Familienmesse statt. Von 14 bis 16:30 Uhr können sich werdende Eltern\, junge Familien und alle Interessierten über verschiedene Angebote informieren. \n👨‍👩‍👧‍👦 Über 20 Ausstellerinnen und Aussteller präsentieren ihre Angebote. Die Messe bietet eine gute Gelegenheit\, sich über Themen wie Elterngeld\, Kinderbetreuung und Familienhilfe zu informieren. \n🎈 Auch für Kinder wird einiges geboten: Eine „kindersichere“ VR-Brille und verschiedene Spiel- und Spaßangebote sorgen für Unterhaltung.
URL:https://dortmundmitkind.de/event/baby-und-familienmesse/
LOCATION:Lükaz\, Kurt-Schumacher-Straße 40-42\, Lünen\, 44532
CATEGORIES:Drinnen
END:VEVENT
END:VCALENDAR