BEGIN:VCALENDAR
VERSION:2.0
PRODID:-//Dortmund mit Kind - ECPv6.15.20//NONSGML v1.0//EN
CALSCALE:GREGORIAN
METHOD:PUBLISH
X-WR-CALNAME:Dortmund mit Kind
X-ORIGINAL-URL:https://dortmundmitkind.de
X-WR-CALDESC:Veranstaltungen für Dortmund mit Kind
REFRESH-INTERVAL;VALUE=DURATION:PT1H
X-Robots-Tag:noindex
X-PUBLISHED-TTL:PT1H
BEGIN:VTIMEZONE
TZID:UTC
BEGIN:STANDARD
TZOFFSETFROM:+0000
TZOFFSETTO:+0000
TZNAME:UTC
DTSTART:20230101T000000
END:STANDARD
END:VTIMEZONE
BEGIN:VEVENT
DTSTART;TZID=UTC:20241025T110000
DTEND;TZID=UTC:20241025T130000
DTSTAMP:20260421T005227
CREATED:20241021T202419Z
LAST-MODIFIED:20241021T202419Z
UID:10001929-1729854000-1729861200@dortmundmitkind.de
SUMMARY:„Was machen die Insekten im Winter?“
DESCRIPTION:Die Blätter färben sich bunt\, die Luft wird frischer und die Natur bereitet sich auf den Winter vor. Der Herbst ist eine spannende Zeit\, um die Tier- und Pflanzenwelt zu erkunden – besonders auf der Kokerei Hansa in Dortmund-Huckarde! In den Herbstferien haben kleine Entdecker und Entdeckerinnen im Alter von 6 bis 12 Jahren die Möglichkeit\, an zwei aufregenden Naturführungen teilzunehmen. \nKinderferienprogramm Kokerei Hansa 2024 \nNaturführungen für Kinder zwischen 6 und 12 Jahren \n18.10. „Früchte und Samen: Wie wandern Pflanzen?“\n25. 10. „Was machen die Insekten im Winter?“ \nDauer: ca. 2 Stunden\nJeweils von 11 bis 13 Uhr\nPreis: 5 Euro pro Person inkl. Eintritt
URL:https://dortmundmitkind.de/event/was-machen-die-insekten-im-winter/
LOCATION:Kokerei Hansa\, Emscherallee 11\, Dortmund\, 44369
CATEGORIES:Draußen
END:VEVENT
END:VCALENDAR