BEGIN:VCALENDAR
VERSION:2.0
PRODID:-//Dortmund mit Kind - ECPv6.15.20//NONSGML v1.0//EN
CALSCALE:GREGORIAN
METHOD:PUBLISH
X-ORIGINAL-URL:https://dortmundmitkind.de
X-WR-CALDESC:Veranstaltungen für Dortmund mit Kind
REFRESH-INTERVAL;VALUE=DURATION:PT1H
X-Robots-Tag:noindex
X-PUBLISHED-TTL:PT1H
BEGIN:VTIMEZONE
TZID:UTC
BEGIN:STANDARD
TZOFFSETFROM:+0000
TZOFFSETTO:+0000
TZNAME:UTC
DTSTART:20230101T000000
END:STANDARD
END:VTIMEZONE
BEGIN:VEVENT
DTSTART;TZID=UTC:20241121T100000
DTEND;TZID=UTC:20241121T170000
DTSTAMP:20260421T071716
CREATED:20241120T091018Z
LAST-MODIFIED:20241120T091018Z
UID:10002470-1732183200-1732208400@dortmundmitkind.de
SUMMARY:Kreativmarkt
DESCRIPTION:Mit Herz und Handgemachtem: Kreativmarkt unterstützt Hospizdienst\nEhemalige Beschäftigte des Klinikums Dortmund lassen eine schöne Tradition wieder aufleben: \nDer Benefiz-Kreativmarkt kehrt zurück! \nNach vierjähriger Pause wird das Foyer des Klinikums an der Beurhausstraße 40 erneut zu einem Ort für Kunsthandwerk und Nächstenliebe. Liebevoll gestaltete Hobbyarbeiten und handgemachte Schätze erwarten die Besuchenden – von Genähtem\, Gestricktem und Gehäkeltem über Holz- und Filzarbeiten bis hin zu Grußkarten\, lustigen Kantenhockertieren und Unikatschmuck. \nAdventliche Blumengestecke wecken die Vorfreude auf Weihnachten. Der Kreativmarkt lädt von 10 bis 17 Uhr zum Stöbern und Entdecken ein. Der Gewinn aus den Verkäufen kommt dem Malteser Kinder- und Jugend-Hospizdienst St. Christophorus in Dortmund zugute\, der Familien in schweren Zeiten begleitet und unterstützt. Die Mitarbeitenden des Hospizdienstes werden zudem vor Ort sein\, um Interessierten von ihrer wichtigen Arbeit und aktuellen Projekten zu berichten. \nAlle Interessierten sind herzlich eingeladen\, sich inspirieren zu lassen und mit einem Einkauf einen wichtigen Beitrag für den Malteser Kinder- und Jugend-Hospizdienst zu leisten.
URL:https://dortmundmitkind.de/event/kreativmarkt/
LOCATION:Klinikum Dortmund gGmbH\, Beurhausstr. 40\, Dortmund\, 44137
CATEGORIES:Kreativität,Markt
END:VEVENT
END:VCALENDAR