BEGIN:VCALENDAR
VERSION:2.0
PRODID:-//Dortmund mit Kind - ECPv6.15.20//NONSGML v1.0//EN
CALSCALE:GREGORIAN
METHOD:PUBLISH
X-ORIGINAL-URL:https://dortmundmitkind.de
X-WR-CALDESC:Veranstaltungen für Dortmund mit Kind
REFRESH-INTERVAL;VALUE=DURATION:PT1H
X-Robots-Tag:noindex
X-PUBLISHED-TTL:PT1H
BEGIN:VTIMEZONE
TZID:UTC
BEGIN:STANDARD
TZOFFSETFROM:+0000
TZOFFSETTO:+0000
TZNAME:UTC
DTSTART:20240101T000000
END:STANDARD
END:VTIMEZONE
BEGIN:VEVENT
DTSTART;TZID=UTC:20250125T110000
DTEND;TZID=UTC:20250125T160000
DTSTAMP:20260425T143016
CREATED:20250103T205606Z
LAST-MODIFIED:20250103T205606Z
UID:10002673-1737802800-1737820800@dortmundmitkind.de
SUMMARY:Eröffnungsfeier Lernakademie 'Kleines Genie'
DESCRIPTION:
URL:https://dortmundmitkind.de/event/eroeffnungsfeier-lernakademie-kleines-genie/
LOCATION:Kleines Genie Barop\, Baroper Bahnhofstr. 5\, Dortmund\, 44225
CATEGORIES:Bildung,Drinnen
END:VEVENT
END:VCALENDAR