BEGIN:VCALENDAR
VERSION:2.0
PRODID:-//Dortmund mit Kind - ECPv6.15.20//NONSGML v1.0//EN
CALSCALE:GREGORIAN
METHOD:PUBLISH
X-WR-CALNAME:Dortmund mit Kind
X-ORIGINAL-URL:https://dortmundmitkind.de
X-WR-CALDESC:Veranstaltungen für Dortmund mit Kind
REFRESH-INTERVAL;VALUE=DURATION:PT1H
X-Robots-Tag:noindex
X-PUBLISHED-TTL:PT1H
BEGIN:VTIMEZONE
TZID:UTC
BEGIN:STANDARD
TZOFFSETFROM:+0000
TZOFFSETTO:+0000
TZNAME:UTC
DTSTART:20230101T000000
END:STANDARD
END:VTIMEZONE
BEGIN:VEVENT
DTSTART;TZID=UTC:20241123T150000
DTEND;TZID=UTC:20241123T190000
DTSTAMP:20260421T034408
CREATED:20241111T182708Z
LAST-MODIFIED:20241111T182708Z
UID:10002073-1732374000-1732388400@dortmundmitkind.de
SUMMARY:Weihnachtsmarkt der DRK-Kita Gänsewinkel
DESCRIPTION:Grünkohl\, Bockwurst\, Schmalzbrote\, Waffeln\, Kaffee. \nGlitzertatoos\, kleine Büdchen\, Auftritt des Kita-Chors und ein exklusives Weihnachts-Shooting.
URL:https://dortmundmitkind.de/event/weihnachtsmarkt-der-drk-kita-gaensewinkel/
LOCATION:KITA Gänselwinkel\, Grünstraße 74\, Schwerte\, 58239
CATEGORIES:Weihnachtsmarkt
END:VEVENT
END:VCALENDAR