BEGIN:VCALENDAR
VERSION:2.0
PRODID:-//Dortmund mit Kind - ECPv6.15.20//NONSGML v1.0//EN
CALSCALE:GREGORIAN
METHOD:PUBLISH
X-ORIGINAL-URL:https://dortmundmitkind.de
X-WR-CALDESC:Veranstaltungen für Dortmund mit Kind
REFRESH-INTERVAL;VALUE=DURATION:PT1H
X-Robots-Tag:noindex
X-PUBLISHED-TTL:PT1H
BEGIN:VTIMEZONE
TZID:UTC
BEGIN:STANDARD
TZOFFSETFROM:+0000
TZOFFSETTO:+0000
TZNAME:UTC
DTSTART:20240101T000000
END:STANDARD
END:VTIMEZONE
BEGIN:VEVENT
DTSTART;TZID=UTC:20250405T100000
DTEND;TZID=UTC:20250405T140000
DTSTAMP:20260421T103030
CREATED:20250127T095710Z
LAST-MODIFIED:20250127T095710Z
UID:10002774-1743847200-1743861600@dortmundmitkind.de
SUMMARY:Flohmarkt
DESCRIPTION:Herzliche Einladung zur Schnäppchenjagd!\nBaby- und Kinderbekleidung sowie Spielzeug zu\ngünstigen Preisen! Für das leibliche Wohl ist gesorgt.\nAußerdem: große Tombola mit tollen Gewinnen!!
URL:https://dortmundmitkind.de/event/flohmarkt/
LOCATION:Katholisches Centrum Propsteihof 10 Innenstadt\, Propsteihof 10\, Dortmund
CATEGORIES:Flohmarkt
END:VEVENT
BEGIN:VEVENT
DTSTART;TZID=UTC:20250303T100000
DTEND;TZID=UTC:20250303T113000
DTSTAMP:20260421T103030
CREATED:20250127T101438Z
LAST-MODIFIED:20250127T101438Z
UID:10002778-1740996000-1741001400@dortmundmitkind.de
SUMMARY:Karneval
DESCRIPTION:
URL:https://dortmundmitkind.de/event/karneval-2/
LOCATION:Katholisches Centrum Propsteihof 10 Innenstadt\, Propsteihof 10\, Dortmund
CATEGORIES:Karneval
END:VEVENT
BEGIN:VEVENT
DTSTART;TZID=UTC:20250210T100000
DTEND;TZID=UTC:20250210T120000
DTSTAMP:20260421T103030
CREATED:20250127T100036Z
LAST-MODIFIED:20250127T100036Z
UID:10002775-1739181600-1739188800@dortmundmitkind.de
SUMMARY:WINTERSPAZIERGANG IM ROMBERGPARK
DESCRIPTION:Auf einem Rundgang durch den Rombergpark halten\nwir Ausschau nach den ersten Frühlingsboten. Dicke\nHandschuhe und ein warmes Getränk dürfen natürlich\nnicht fehlen. \nTreffpunkt: Haupteingang Zoo Dortmund
URL:https://dortmundmitkind.de/event/winterspaziergang-im-rombergpark/
LOCATION:Katholisches Centrum Propsteihof 10 Innenstadt\, Propsteihof 10\, Dortmund
CATEGORIES:Draußen
END:VEVENT
END:VCALENDAR