BEGIN:VCALENDAR
VERSION:2.0
PRODID:-//Dortmund mit Kind - ECPv6.15.20//NONSGML v1.0//EN
CALSCALE:GREGORIAN
METHOD:PUBLISH
X-ORIGINAL-URL:https://dortmundmitkind.de
X-WR-CALDESC:Veranstaltungen für Dortmund mit Kind
REFRESH-INTERVAL;VALUE=DURATION:PT1H
X-Robots-Tag:noindex
X-PUBLISHED-TTL:PT1H
BEGIN:VTIMEZONE
TZID:UTC
BEGIN:STANDARD
TZOFFSETFROM:+0000
TZOFFSETTO:+0000
TZNAME:UTC
DTSTART:20230101T000000
END:STANDARD
END:VTIMEZONE
BEGIN:VEVENT
DTSTART;TZID=UTC:20241117T170000
DTEND;TZID=UTC:20241117T200000
DTSTAMP:20260425T131835
CREATED:20241030T185659Z
LAST-MODIFIED:20241030T185659Z
UID:10002019-1731862800-1731873600@dortmundmitkind.de
SUMMARY:Lichtendorfer Martinszug
DESCRIPTION:
URL:https://dortmundmitkind.de/event/lichtendorfer-martinszug/
LOCATION:Katholische Kirche\, Lambergstraße 35\, Dortmund\, 44289
CATEGORIES:Draußen
END:VEVENT
END:VCALENDAR