BEGIN:VCALENDAR
VERSION:2.0
PRODID:-//Dortmund mit Kind - ECPv6.15.20//NONSGML v1.0//EN
CALSCALE:GREGORIAN
METHOD:PUBLISH
X-ORIGINAL-URL:https://dortmundmitkind.de
X-WR-CALDESC:Veranstaltungen für Dortmund mit Kind
REFRESH-INTERVAL;VALUE=DURATION:PT1H
X-Robots-Tag:noindex
X-PUBLISHED-TTL:PT1H
BEGIN:VTIMEZONE
TZID:UTC
BEGIN:STANDARD
TZOFFSETFROM:+0000
TZOFFSETTO:+0000
TZNAME:UTC
DTSTART:20240101T000000
END:STANDARD
END:VTIMEZONE
BEGIN:VEVENT
DTSTART;TZID=UTC:20250125T120000
DTEND;TZID=UTC:20250125T150000
DTSTAMP:20260425T155435
CREATED:20250122T104430Z
LAST-MODIFIED:20250122T104430Z
UID:10002765-1737806400-1737817200@dortmundmitkind.de
SUMMARY:wintergrillen inner wheel club
DESCRIPTION:Grillen für den guten Zweck. \nWaffeln\, Bratwürstchen\, heiße Getränke &#8211; Erlös geht an das Schulranzen-Projekt der Stiftung Kinderglück. \nOrt: Vorplatz der Ev. Patrokluskirche Kirchhörde\, Patroklusweg 19
URL:https://dortmundmitkind.de/event/wintergrillen-inner-wheel-club/
LOCATION:Inner Wheel Club
CATEGORIES:Draußen
END:VEVENT
END:VCALENDAR