BEGIN:VCALENDAR
VERSION:2.0
PRODID:-//Dortmund mit Kind - ECPv6.15.20//NONSGML v1.0//EN
CALSCALE:GREGORIAN
METHOD:PUBLISH
X-ORIGINAL-URL:https://dortmundmitkind.de
X-WR-CALDESC:Veranstaltungen für Dortmund mit Kind
REFRESH-INTERVAL;VALUE=DURATION:PT1H
X-Robots-Tag:noindex
X-PUBLISHED-TTL:PT1H
BEGIN:VTIMEZONE
TZID:UTC
BEGIN:STANDARD
TZOFFSETFROM:+0000
TZOFFSETTO:+0000
TZNAME:UTC
DTSTART:20230101T000000
END:STANDARD
END:VTIMEZONE
BEGIN:VEVENT
DTSTART;TZID=UTC:20250406T110000
DTEND;TZID=UTC:20250406T170000
DTSTAMP:20260419T150223
CREATED:20250306T094445Z
LAST-MODIFIED:20250306T094445Z
UID:10002884-1743937200-1743958800@dortmundmitkind.de
SUMMARY:FrühlingsERWACHEN Markt
DESCRIPTION:Der Frühling ist da – und das feiern wir mit euch! 🌿✨ \n🎨 Einzigartige\, handgefertigte Produkte unserer tollen Aussteller\n🍽 Genuss pur mit leckeren Speisen\, kleinen Köstlichkeiten & erfrischenden Getränken\n🛍 Frühlingsfrische Produkte aus unserem Hofladen – perfekt für Zuhause oder als Geschenk
URL:https://dortmundmitkind.de/event/fruehlingserwachen-markt/2025-04-06/
LOCATION:hof mertin\, Bönninghauser Straße 5\, Dortmund\, 44329
CATEGORIES:Kreativität,Markt
END:VEVENT
BEGIN:VEVENT
DTSTART;TZID=UTC:20250330T110000
DTEND;TZID=UTC:20250330T150000
DTSTAMP:20260419T150223
CREATED:20250226T124317Z
LAST-MODIFIED:20250226T124317Z
UID:10002871-1743332400-1743346800@dortmundmitkind.de
SUMMARY:Kinderkleider- & Spielzeugmarkt
DESCRIPTION:Am 30. März von 11 bis 15 Uhr findet unser beliebter Kinderkleider- und Spielzeugmarkt statt! Hier könnt ihr tolle Schnäppchen für eure Kleinen ergattern – von Kleidung bis hin zu Spielzeug. \nWenn du als Aussteller dabei sein möchtest\, schreib uns bitte eine E-Mail an marketing@hof-mertin.de oder ruf uns an unter 📞 0231231236. Teile uns einfach deine Wunschmeteranzahl und deinen Namen mit. \n💵 Preise:\n6 € pro Meter mit eigenem Tisch &#8211; es wird alles überdacht sein! \nWir versorgen euch vor Ort mit Würstchen und Getränken. Als besonderes Highlight gibt es dieses Jahr Ponyreiten für die Kleinen!
URL:https://dortmundmitkind.de/event/kinderkleider-spielzeugmarkt-2/
LOCATION:hof mertin\, Bönninghauser Straße 5\, Dortmund\, 44329
CATEGORIES:Flohmarkt,Flohmarkt
END:VEVENT
BEGIN:VEVENT
DTSTART;TZID=UTC:20241027T110000
DTEND;TZID=UTC:20241027T150000
DTSTAMP:20260419T150223
CREATED:20241021T202115Z
LAST-MODIFIED:20241021T202115Z
UID:10001928-1730026800-1730041200@dortmundmitkind.de
SUMMARY:Kinderkleider- & Spielzeugmarkt
DESCRIPTION:Wir versorgen euch vor Ort mit Würstchen und Getränken. Als besonderes Highlight gibt es dieses Jahr Ponyreiten für die Kleinen!
URL:https://dortmundmitkind.de/event/kinderkleider-spielzeugmarkt/
LOCATION:hof mertin\, Bönninghauser Straße 5\, Dortmund\, 44329
CATEGORIES:Draußen,Flohmarkt
END:VEVENT
END:VCALENDAR