BEGIN:VCALENDAR
VERSION:2.0
PRODID:-//Dortmund mit Kind - ECPv6.15.20//NONSGML v1.0//EN
CALSCALE:GREGORIAN
METHOD:PUBLISH
X-WR-CALNAME:Dortmund mit Kind
X-ORIGINAL-URL:https://dortmundmitkind.de
X-WR-CALDESC:Veranstaltungen für Dortmund mit Kind
REFRESH-INTERVAL;VALUE=DURATION:PT1H
X-Robots-Tag:noindex
X-PUBLISHED-TTL:PT1H
BEGIN:VTIMEZONE
TZID:UTC
BEGIN:STANDARD
TZOFFSETFROM:+0000
TZOFFSETTO:+0000
TZNAME:UTC
DTSTART:20230101T000000
END:STANDARD
END:VTIMEZONE
BEGIN:VEVENT
DTSTART;TZID=UTC:20241208T120000
DTEND;TZID=UTC:20241208T180000
DTSTAMP:20260420T133408
CREATED:20241108T072817Z
LAST-MODIFIED:20241108T072817Z
UID:10002061-1733659200-1733680800@dortmundmitkind.de
SUMMARY:WEIHNACHTSMARKT
DESCRIPTION:Die Öffnungszeiten sind wie folgt:\n.\n06.12.: 12-21 Uhr\n07.12.: 12-22 Uhr\n08.12.: 12-18 Uhr\n.\nVor Ort erwartet euch neben einer gemütlichen & festlichen Weihnachtsstimmung
URL:https://dortmundmitkind.de/event/weihnachtsmarkt/2024-12-08/
LOCATION:hof kiso\, Auf dem Brink 128\, Dortmund\, 44329
CATEGORIES:Weihnachtsmarkt
END:VEVENT
BEGIN:VEVENT
DTSTART;TZID=UTC:20241031T150000
DTEND;TZID=UTC:20241031T200000
DTSTAMP:20260420T133408
CREATED:20241021T185532Z
LAST-MODIFIED:20241021T185532Z
UID:10001924-1730386800-1730404800@dortmundmitkind.de
SUMMARY:Happy Halloween Fest auf dem Bauernhof
DESCRIPTION:
URL:https://dortmundmitkind.de/event/happy-halloween-fest-auf-dem-bauernhof/
LOCATION:hof kiso\, Auf dem Brink 128\, Dortmund\, 44329
CATEGORIES:Drinnen
END:VEVENT
END:VCALENDAR