BEGIN:VCALENDAR
VERSION:2.0
PRODID:-//Dortmund mit Kind - ECPv6.15.20//NONSGML v1.0//EN
CALSCALE:GREGORIAN
METHOD:PUBLISH
X-WR-CALNAME:Dortmund mit Kind
X-ORIGINAL-URL:https://dortmundmitkind.de
X-WR-CALDESC:Veranstaltungen für Dortmund mit Kind
REFRESH-INTERVAL;VALUE=DURATION:PT1H
X-Robots-Tag:noindex
X-PUBLISHED-TTL:PT1H
BEGIN:VTIMEZONE
TZID:UTC
BEGIN:STANDARD
TZOFFSETFROM:+0000
TZOFFSETTO:+0000
TZNAME:UTC
DTSTART:20230101T000000
END:STANDARD
END:VTIMEZONE
BEGIN:VEVENT
DTSTART;TZID=UTC:20250316T110000
DTEND;TZID=UTC:20250316T170000
DTSTAMP:20260421T102702
CREATED:20250122T080015Z
LAST-MODIFIED:20250122T080015Z
UID:10002761-1742122800-1742144400@dortmundmitkind.de
SUMMARY:Frühlingsbasar in Lünen
DESCRIPTION:Der Hansesaal lädt am 16. März wieder zum Frühlingsbasar ein. Von 11 bis 17 Uhr warten rund 70 Stände mit handgefertigten Unikaten – Schmuck\, Keramik\, Textilkunst\, Dekorationen und vieles mehr auf euch. Dieses Jahr gibt es mehr Platz als je zuvor\, denn wir haben die Stadtgalerie in der zweiten Etage für weitere Stände geöffnet. \n🎨 Deshalb: Wer selbst kreativ ist und seine Werke präsentieren möchte\, kann sich noch einen Platz sichern. Egal ob kleine Geschenke\, kunstvolle Deko oder selbstgemachte Leckereien – hier findet jedes handgefertigte Produkt seinen Platz. \n☕ Neu dabei ist ein Gastronomiebereich im Innenhof\, der auch Sitzgelegenheiten für eine entspannte Pause bietet. Der Eintritt ist frei\, und Besucher:innen können kostenlos auf den umliegenden Parkplätzen parken. \n📍 Alle Infos und die Anmeldung gibt es auf www.kulturbuero-luenen.de.
URL:https://dortmundmitkind.de/event/fruehlingsbasar-in-luenen/
LOCATION:Hansesaal Lünen\, Kurt-Schumacher-Straße 41\, Lünen\, 44532
CATEGORIES:Drinnen
END:VEVENT
BEGIN:VEVENT
DTSTART;TZID=UTC:20241201T110000
DTEND;TZID=UTC:20241201T170000
DTSTAMP:20260421T102702
CREATED:20241126T155706Z
LAST-MODIFIED:20241126T155706Z
UID:10002499-1733050800-1733072400@dortmundmitkind.de
SUMMARY:Weihnachtsbasar im Hansesaal
DESCRIPTION:Der beliebte Weihnachtsbasar im Hansesaal öffnet am Wochenende (Samstag\, 30. November\, und Sonntag\, 1. Dezember) wieder seine Türen. Auf euch warten rund 70 Kreativstände auf zwei Etagen mit handgefertigten Schätzen und weihnachtlicher Stimmung. \n🧶 Es gibt Adventsfloristik\, kreative Näharbeiten\, Strick- und Häkelwaren sowie Schmuck\, Marmeladen und Liköre – perfekt als Geschenk oder Mitbringsel. \n🎁 An beiden Tagen wird ebenfalls an einem Stand gut erhaltener Trödel und Dekorationen für einen guten Zweck angeboten. Der Erlös geht an Familien in Not. \n🕒 Öffnungszeiten:\n📅 Samstag\, 30. November\, von 10 bis 18 Uhr.\n📅 Sonntag\, 1. Dezember\, von 11 bis 17 Uhr. \n🎟️ Der Eintritt ist kostenlos.
URL:https://dortmundmitkind.de/event/weihnachtsbasar-im-hansesaal/2024-12-01/
LOCATION:Hansesaal Lünen\, Kurt-Schumacher-Straße 41\, Lünen\, 44532
CATEGORIES:Weihnachten,Weihnachtsmarkt
END:VEVENT
END:VCALENDAR