BEGIN:VCALENDAR
VERSION:2.0
PRODID:-//Dortmund mit Kind - ECPv6.15.20//NONSGML v1.0//EN
CALSCALE:GREGORIAN
METHOD:PUBLISH
X-WR-CALNAME:Dortmund mit Kind
X-ORIGINAL-URL:https://dortmundmitkind.de
X-WR-CALDESC:Veranstaltungen für Dortmund mit Kind
REFRESH-INTERVAL;VALUE=DURATION:PT1H
X-Robots-Tag:noindex
X-PUBLISHED-TTL:PT1H
BEGIN:VTIMEZONE
TZID:UTC
BEGIN:STANDARD
TZOFFSETFROM:+0000
TZOFFSETTO:+0000
TZNAME:UTC
DTSTART:20240101T000000
END:STANDARD
END:VTIMEZONE
BEGIN:VEVENT
DTSTART;TZID=UTC:20250329T130000
DTEND;TZID=UTC:20250329T160000
DTSTAMP:20260420T152218
CREATED:20250312T112121Z
LAST-MODIFIED:20250312T112121Z
UID:10002890-1743253200-1743264000@dortmundmitkind.de
SUMMARY:Basar rund ums Kind
DESCRIPTION:
URL:https://dortmundmitkind.de/event/basar-rund-ums-kind/
LOCATION:Gemeindesaal St. Franziskus\, Franziskaner straße 3\, Dortmund\, 44134
CATEGORIES:Flohmarkt,Flohmarkt,Markt
END:VEVENT
END:VCALENDAR