BEGIN:VCALENDAR
VERSION:2.0
PRODID:-//Dortmund mit Kind - ECPv6.15.20//NONSGML v1.0//EN
CALSCALE:GREGORIAN
METHOD:PUBLISH
X-ORIGINAL-URL:https://dortmundmitkind.de
X-WR-CALDESC:Veranstaltungen für Dortmund mit Kind
REFRESH-INTERVAL;VALUE=DURATION:PT1H
X-Robots-Tag:noindex
X-PUBLISHED-TTL:PT1H
BEGIN:VTIMEZONE
TZID:UTC
BEGIN:STANDARD
TZOFFSETFROM:+0000
TZOFFSETTO:+0000
TZNAME:UTC
DTSTART:20230101T000000
END:STANDARD
END:VTIMEZONE
BEGIN:VEVENT
DTSTART;TZID=UTC:20250404T150000
DTEND;TZID=UTC:20250404T190000
DTSTAMP:20260420T181200
CREATED:20250313T144622Z
LAST-MODIFIED:20250313T144622Z
UID:10002896-1743778800-1743793200@dortmundmitkind.de
SUMMARY:Frühlingsfest
DESCRIPTION:
URL:https://dortmundmitkind.de/event/fruehlingsfest/
LOCATION:Gärtnerei GrünFrau\, Ob. Pekingstraße 71\, Dortmund\, 44269
CATEGORIES:Feier,Markt
END:VEVENT
BEGIN:VEVENT
DTSTART;TZID=UTC:20250403T160000
DTEND;TZID=UTC:20250403T170000
DTSTAMP:20260420T181200
CREATED:20250327T070932Z
LAST-MODIFIED:20250327T070932Z
UID:10002912-1743696000-1743699600@dortmundmitkind.de
SUMMARY:Lesenachmittag - 'Superwurm'
DESCRIPTION:Lesenachmittag im Garten der Gärtnerei GrünFrau\nAm 03.04 ab 16 Uhr \nVeranstaltung für Kinder von 5 bis 10 Jahren \nWir lesen das Buch „Der Superwurm“ von Axel Scheffler. \nEin Nachmittag voller Lesespaß mit der Chance\, eine Becherlupe kennenzulernen\, gebrauchte Bücher günstig zu erwerben und den Garten der Gärtnerei GrünFrau zu erforschen. \nEine Voranmeldung ist in der Stadtteilbibliothek erforderlich! \nStadtbibliothek Hörde | Hermannstraße 33 | 44263 Dortmund\nTel. (0231) 5016860 | E-Mail: bibliothek.hoerde@stadtdo.de
URL:https://dortmundmitkind.de/event/lesenachmittag-superwurm/
LOCATION:Gärtnerei GrünFrau\, Ob. Pekingstraße 71\, Dortmund\, 44269
CATEGORIES:Vorlesung
END:VEVENT
BEGIN:VEVENT
DTSTART;TZID=UTC:20241129T150000
DTEND;TZID=UTC:20241129T190000
DTSTAMP:20260420T181200
CREATED:20241029T181238Z
LAST-MODIFIED:20241118T091707Z
UID:10001949-1732892400-1732906800@dortmundmitkind.de
SUMMARY:Wintermarkt in der Grünfrau Gärtnerei
DESCRIPTION:
URL:https://dortmundmitkind.de/event/wintermarkt/
LOCATION:Gärtnerei GrünFrau\, Ob. Pekingstraße 71\, Dortmund\, 44269
CATEGORIES:Draußen
END:VEVENT
BEGIN:VEVENT
DTSTART;TZID=UTC:20241029T153000
DTEND;TZID=UTC:20241029T173000
DTSTAMP:20260420T181200
CREATED:20241016T053605Z
LAST-MODIFIED:20241016T053605Z
UID:10001887-1730215800-1730223000@dortmundmitkind.de
SUMMARY:Feuermachen ohne Streichhölzer
DESCRIPTION:Für Väter mit Kindern ab 8 Jahre. \nWir werden an diesem Tag eine spannende Zeit am Feuer erleben. Anfangs hacken wir das Holz und lernen dann verschiedene Techniken des Feuermachens\, wie Feuerbohren und Feuerschlagen kennen.\nDer Fokus liegt darauf\, dass ihr zusammen im Team vieles ausprobieren und gemeinsam Neues lernen könnt. Später werden wir leckeres Stockbrot auf dem Feuer backen und das Knistern der Flammen genießen.\nBitte mitbringen: gartentaugliche und wetterfeste Kleidung\, festes Schuhwerk\, (warme) Getränke und einen Snack für zwischendurch. \nVon Querwaldein e. V. in Kooperation mit der Gärtnerei Grünfrau. \nAnmeldung im Familienbüro Aplerbeck\nTel 50 293 07 /09\nfamilienbueroaplerbeck@stadtdo.de
URL:https://dortmundmitkind.de/event/feuermachen-ohne-streichhoelzer/
LOCATION:Gärtnerei GrünFrau\, Ob. Pekingstraße 71\, Dortmund\, 44269
CATEGORIES:Draußen
END:VEVENT
BEGIN:VEVENT
DTSTART;TZID=UTC:20241024T160000
DTEND;TZID=UTC:20241024T180000
DTSTAMP:20260420T181200
CREATED:20241016T054252Z
LAST-MODIFIED:20241016T054252Z
UID:10001888-1729785600-1729792800@dortmundmitkind.de
SUMMARY:Lesenachmittag
DESCRIPTION:Die Stadtteilbibliothek Hörde und Querwaldein e.V. laden ein zu einem Lesenachmittag am Lagerfeuer. Dazu wird das Buch Steinsuppe gelesen. \nAnmeldungen für Kinder zwischen 5 und 10 Jahren bei der Stadtteilbücherei Hörde unter 0231 5016860.
URL:https://dortmundmitkind.de/event/lesenachmittag/
LOCATION:Gärtnerei GrünFrau\, Ob. Pekingstraße 71\, Dortmund\, 44269
END:VEVENT
BEGIN:VEVENT
DTSTART;TZID=UTC:20241011T150000
DTEND;TZID=UTC:20241011T190000
DTSTAMP:20260420T181200
CREATED:20241008T090257Z
LAST-MODIFIED:20241008T090257Z
UID:10001332-1728658800-1728673200@dortmundmitkind.de
SUMMARY:Erntedankmarkt
DESCRIPTION:Wir laden ein zu einem Erntedankmarkt in der Gärtnerei GrünFrau. \nEinige ProduzentInnen der Marktschwärmerei\, welche ihr von unseren letzten Veranstaltungen kennt\, bringen ihre regionalen Produkte mit. \nLara vom Naturerlebnishof Malinara wird von 15 bis 17 Uhr ein Kinderprogramm anbieten. \nDie GrünFrauen versorgen euch mit kalten und warmen Gertränken sowie Stockbrotteig fürs Lagerfeuer! \nFrau Lose und Iman sorgen für süßes und herzhaftes Gebäck und bringen Produkte aus ihrem Laden mit.
URL:https://dortmundmitkind.de/event/erntedankmarkt/
LOCATION:Gärtnerei GrünFrau\, Ob. Pekingstraße 71\, Dortmund\, 44269
CATEGORIES:Draußen
END:VEVENT
END:VCALENDAR