BEGIN:VCALENDAR
VERSION:2.0
PRODID:-//Dortmund mit Kind - ECPv6.15.20//NONSGML v1.0//EN
CALSCALE:GREGORIAN
METHOD:PUBLISH
X-ORIGINAL-URL:https://dortmundmitkind.de
X-WR-CALDESC:Veranstaltungen für Dortmund mit Kind
REFRESH-INTERVAL;VALUE=DURATION:PT1H
X-Robots-Tag:noindex
X-PUBLISHED-TTL:PT1H
BEGIN:VTIMEZONE
TZID:UTC
BEGIN:STANDARD
TZOFFSETFROM:+0000
TZOFFSETTO:+0000
TZNAME:UTC
DTSTART:20230101T000000
END:STANDARD
END:VTIMEZONE
BEGIN:VEVENT
DTSTART;TZID=UTC:20250201T200000
DTEND;TZID=UTC:20250201T230000
DTSTAMP:20260420T210857
CREATED:20250127T094843Z
LAST-MODIFIED:20250127T094843Z
UID:10002771-1738440000-1738450800@dortmundmitkind.de
SUMMARY:Mutti tanzt ab!
DESCRIPTION:Die neue Party im legendären FZW Dortmund für alle Muttis\, Freundinnen und Freunde (Papas Welcome). Party Beginn ist 20 Uhr. Bereits ab 19 Uhr ist aber schon geöffnet\, damit ihr euch an der Bar noch entspannt mit Getränken versorgen könnt. \nDJ D-K Dance\, der deutschlandweit die Clubs zum kochen bringt\, versorgt euch mit dem besten Musik-Mix: 90er\, 2000er\, Charts\, Dance\, Classics und (OldSchool) HipHop. 3 Stunden Power-Dancing ist angesagt und das alles früh genug\, damit ihr am nächsten Tag wieder fit seid. \nGood Vibes guaranteed! \nEinlass 19 Uhr\nBeginn 20 Uhr\nEnde 23 Uhr \nTickets: https://stagedates.com/events/mutti-tanzt-ab-fzw-20250201-0HaqJ
URL:https://dortmundmitkind.de/event/mutti-tanzt-ab/
LOCATION:fzw\, Ritterstraße 20\, Dortmund\, 44137
CATEGORIES:Musik
END:VEVENT
BEGIN:VEVENT
DTSTART;TZID=UTC:20250105T143000
DTEND;TZID=UTC:20250105T173000
DTSTAMP:20260420T210857
CREATED:20241231T063422Z
LAST-MODIFIED:20241231T063422Z
UID:10002596-1736087400-1736098200@dortmundmitkind.de
SUMMARY:Familiendisko - Die Riesenparty für Gross und Klein
DESCRIPTION:Die Familiendisko am SONNTAG\, 05. JANUAR 2025 im FZW – Die Riesenparty für Gross und Klein! Wir feiern mit euch eine Riesenparty auf verschiedenen Ebenen im FZW! Kinder feiern mit ihren Freunden & Eltern in einer richtigen Disko mit echten DJs\, guter Musik und einem tollen (Mitmach-) Programm\n>>> In der großen Halle des FZW laufen bei kinderfreundlicher Lautstärke die beliebtesten Lieder aus den aktuellen Charts und die größten Hits der 80er\, 90er und 2000er Jahre aus Pop & Rock\, Dance\, House & Hip Hop….Der Tanzende Elefant  hat sich Freunde eingeladen – und so sind dieses Mal dabei:die beste Biene  der Welt: BVB Emma der Tanzsportclub DANCE REVOLUTION e.V. mit verschiedenen Tanzgruppen und Contemporary & Hip Hop Performances  Tanzpädagogin Angela aus der Tanzoase Leialoha und der TANZENDE ELEFANT mit Tanz\, Bewegung\, Spaß und jeder Menge Mitmachlieder!\n>>> Ruheraum in der Bar:Die komplette Bar des FZW wird zum Ruheraum\, in dem man sich bei leiser Hintergrundmusik etwas stärken und ausruhen kann!\nSPECIALS:– das CHURROS-Mobil ist zum ersten Mal dabei – kostenfreie Parkplätze direkt am FZW– zur Stärkung erwarten euch Kuchen\, Popcorn\, frisches Obst & mehr zu unschlagbar familienfreundlichen Preisen. \nDer Eintritt kostet 12.-€ pro Person im Vorverkauf / 15.-€ an der Tageskasse.Kinder unter 2 Jahren erhalten freien Eintritt. ACHTUNG FAMILIENTICKETS für bis zu vier Personen gibt es nur im Vorverkauf\n>>> VORVERKAUF:– Karten online gibt es direkt auf das Smartphone unter www.familiendisko.com\n\nACHTUNG! Kinder haben nur Zutritt in Begleitung einer Aufsichtsperson\, die während der Veranstaltung die Aufsichtspflicht wahrnehmen muss. Eltern haften für ihre Kinder.
URL:https://dortmundmitkind.de/event/familiendisko-die-riesenparty-fuer-gross-und-klein/
LOCATION:fzw\, Ritterstraße 20\, Dortmund\, 44137
CATEGORIES:Musik,Party
END:VEVENT
BEGIN:VEVENT
DTSTART;TZID=UTC:20241207T153000
DTEND;TZID=UTC:20241207T170000
DTSTAMP:20260420T210857
CREATED:20241114T121407Z
LAST-MODIFIED:20241114T121407Z
UID:10002382-1733585400-1733590800@dortmundmitkind.de
SUMMARY:Lichterkinder LIVE – Weihnachts-Familienkonzert
DESCRIPTION:Singen\, Tanzen\, Lachen\, Stampfen\, Klatschen!\nEs ist soweit – die LICHTERKINDER Hits\, bekannt durch mehr als 360 Millionen YouTubeAufrufe\, kommen auf die Bühne und es wird eine große Party für die ganze Familie. Die 7 köpfige LICHTERKINDER – Liveband animiert Kinder und Eltern mit Ohrwürmern\, Choreographien\, Kostümen und viel Spaß und macht das Publikum zum Mittelpunkt der Show. Die ersten Events 2023 in Hamburg in der Fabrik und Planten un Bloomen waren ein voller Erfolg und komplett ausverkauft. \nSongs wie „Der Körperteil Blues“ oder „Guck mal diese Biene da“ sind seit Jahren in tausenden von Kitas und Kinderzimmern bekannt und längst zu Hause. Jetzt kann man die vielen Tanz-\, Bewegungs- und Lernlieder live erleben und die LICHTERKINDER Band lädt dazu mit viel Energie Groß und Klein zum gemeinsamen Singen und Tanzen ein. Alle sind dabei und machen mit und so ist das Publikum selbst der Star\, die Bühne ist der Saal und das Erlebnis einzigartig! \nEinlass- und Beginnzeiten: \nEinlass: 14:00\nBeginn: 15:30  \nTicketkategorien \nKinder unter 2 Jahren haben freien Eintritt.\nKinderticket: 2 bis einschließlich 12 Jahre\nNormalticket: Ticket für alle ab 13 Jahren 
URL:https://dortmundmitkind.de/event/lichterkinder-live-weihnachts-familienkonzert/
LOCATION:fzw\, Ritterstraße 20\, Dortmund\, 44137
CATEGORIES:Musik
END:VEVENT
END:VCALENDAR