BEGIN:VCALENDAR
VERSION:2.0
PRODID:-//Dortmund mit Kind - ECPv6.15.20//NONSGML v1.0//EN
CALSCALE:GREGORIAN
METHOD:PUBLISH
X-WR-CALNAME:Dortmund mit Kind
X-ORIGINAL-URL:https://dortmundmitkind.de
X-WR-CALDESC:Veranstaltungen für Dortmund mit Kind
REFRESH-INTERVAL;VALUE=DURATION:PT1H
X-Robots-Tag:noindex
X-PUBLISHED-TTL:PT1H
BEGIN:VTIMEZONE
TZID:UTC
BEGIN:STANDARD
TZOFFSETFROM:+0000
TZOFFSETTO:+0000
TZNAME:UTC
DTSTART:20230101T000000
END:STANDARD
END:VTIMEZONE
BEGIN:VEVENT
DTSTART;TZID=UTC:20241006T130000
DTEND;TZID=UTC:20241006T160000
DTSTAMP:20260420T013940
CREATED:20241001T141943Z
LAST-MODIFIED:20241001T142904Z
UID:10000058-1728219600-1728230400@dortmundmitkind.de
SUMMARY:Herbstgesteck aus Naturmaterialien weben
DESCRIPTION:Wo?\nim Westpark beim großen Spielplatz\, hinter den Tischtennis Platz auf der Wiese \nWer?\nKinder ab 5 Jahren\noder auch jüngere Kinder die durch ihre Eltern unterstützt werden.\nErwachse sind herzlich eingeladen mitzumachen!
URL:https://dortmundmitkind.de/event/herbstgesteck-aus-naturmaterialien-weben/
LOCATION:Frau Lose\, Rheinische Straße 24\, Dortmund\, 44145
CATEGORIES:Draußen,Park
END:VEVENT
END:VCALENDAR