BEGIN:VCALENDAR
VERSION:2.0
PRODID:-//Dortmund mit Kind - ECPv6.15.20//NONSGML v1.0//EN
CALSCALE:GREGORIAN
METHOD:PUBLISH
X-ORIGINAL-URL:https://dortmundmitkind.de
X-WR-CALDESC:Veranstaltungen für Dortmund mit Kind
REFRESH-INTERVAL;VALUE=DURATION:PT1H
X-Robots-Tag:noindex
X-PUBLISHED-TTL:PT1H
BEGIN:VTIMEZONE
TZID:UTC
BEGIN:STANDARD
TZOFFSETFROM:+0000
TZOFFSETTO:+0000
TZNAME:UTC
DTSTART:20240101T000000
END:STANDARD
END:VTIMEZONE
BEGIN:VEVENT
DTSTART;TZID=UTC:20250503T130000
DTEND;TZID=UTC:20250503T160000
DTSTAMP:20260420T175405
CREATED:20250501T091048Z
LAST-MODIFIED:20250501T091048Z
UID:10003003-1746277200-1746288000@dortmundmitkind.de
SUMMARY:Kinderbasar
DESCRIPTION:
URL:https://dortmundmitkind.de/event/kinderbasar/
LOCATION:familienzentrum &#8218;Zum Förderturm&#8216;\, Trippestraße 16a\, Dortmund\, 44149
CATEGORIES:Flohmarkt,Markt
END:VEVENT
END:VCALENDAR