BEGIN:VCALENDAR
VERSION:2.0
PRODID:-//Dortmund mit Kind - ECPv6.15.20//NONSGML v1.0//EN
CALSCALE:GREGORIAN
METHOD:PUBLISH
X-ORIGINAL-URL:https://dortmundmitkind.de
X-WR-CALDESC:Veranstaltungen für Dortmund mit Kind
REFRESH-INTERVAL;VALUE=DURATION:PT1H
X-Robots-Tag:noindex
X-PUBLISHED-TTL:PT1H
BEGIN:VTIMEZONE
TZID:UTC
BEGIN:STANDARD
TZOFFSETFROM:+0000
TZOFFSETTO:+0000
TZNAME:UTC
DTSTART:20240101T000000
END:STANDARD
END:VTIMEZONE
BEGIN:VEVENT
DTSTART;TZID=UTC:20250405T100000
DTEND;TZID=UTC:20250405T130000
DTSTAMP:20260419T115313
CREATED:20250402T101415Z
LAST-MODIFIED:20250402T101415Z
UID:10002950-1743847200-1743858000@dortmundmitkind.de
SUMMARY:Trödelmarkt
DESCRIPTION:Kinderkleidung\, Spielzeug und viel mehr
URL:https://dortmundmitkind.de/event/troedelmarkt/
LOCATION:Familienzentrum Ev. Kindergarten Barop\, Stockumerstr. 275\, Dortmund\, 44225
CATEGORIES:Flohmarkt,Flohmarkt
END:VEVENT
END:VCALENDAR