BEGIN:VCALENDAR
VERSION:2.0
PRODID:-//Dortmund mit Kind - ECPv6.15.20//NONSGML v1.0//EN
CALSCALE:GREGORIAN
METHOD:PUBLISH
X-ORIGINAL-URL:https://dortmundmitkind.de
X-WR-CALDESC:Veranstaltungen für Dortmund mit Kind
REFRESH-INTERVAL;VALUE=DURATION:PT1H
X-Robots-Tag:noindex
X-PUBLISHED-TTL:PT1H
BEGIN:VTIMEZONE
TZID:UTC
BEGIN:STANDARD
TZOFFSETFROM:+0000
TZOFFSETTO:+0000
TZNAME:UTC
DTSTART:20240101T000000
END:STANDARD
END:VTIMEZONE
BEGIN:VEVENT
DTSTART;TZID=UTC:20250314T140000
DTEND;TZID=UTC:20250314T170000
DTSTAMP:20260419T183246
CREATED:20250131T112623Z
LAST-MODIFIED:20250131T112623Z
UID:10002813-1741960800-1741971600@dortmundmitkind.de
SUMMARY:Kinder Flohmarkt
DESCRIPTION:Kaffee\, Kuchen & Waffeln.
URL:https://dortmundmitkind.de/event/kinder-flohmarkt/
LOCATION:FABIDO TEK\, Dubliner Weg 8\, Dortmund\, 44269
CATEGORIES:Flohmarkt,Flohmarkt
END:VEVENT
END:VCALENDAR