BEGIN:VCALENDAR
VERSION:2.0
PRODID:-//Dortmund mit Kind - ECPv6.15.20//NONSGML v1.0//EN
CALSCALE:GREGORIAN
METHOD:PUBLISH
X-WR-CALNAME:Dortmund mit Kind
X-ORIGINAL-URL:https://dortmundmitkind.de
X-WR-CALDESC:Veranstaltungen für Dortmund mit Kind
REFRESH-INTERVAL;VALUE=DURATION:PT1H
X-Robots-Tag:noindex
X-PUBLISHED-TTL:PT1H
BEGIN:VTIMEZONE
TZID:UTC
BEGIN:STANDARD
TZOFFSETFROM:+0000
TZOFFSETTO:+0000
TZNAME:UTC
DTSTART:20240101T000000
END:STANDARD
END:VTIMEZONE
BEGIN:VEVENT
DTSTART;TZID=UTC:20250416T140000
DTEND;TZID=UTC:20250416T150000
DTSTAMP:20260421T105054
CREATED:20250410T083802Z
LAST-MODIFIED:20250410T083802Z
UID:10002983-1744812000-1744815600@dortmundmitkind.de
SUMMARY:Bilderbuchkino "Die Nacht vor Ostern"
DESCRIPTION:Was wäre\, wenn der Osterhase beinahe das Osterfest vermasselt? Im Bilderbuchkino &#8222;Die Nacht vor \nOstern&#8220; steht der Ostersonntag auf dem Spiel. Ob ein paar verrückte Hühner und ein Osterlamm das \nFest retten können? Wir laden euch herzlich zum Bilderbuchkino des lustigen Buches &#8220; Die Nacht vor \nOstern&#8220; von Nadine Reitz ein. \nOrt: FABIDO Familienzentrum Berliner Str.4 \, 44143 Dortmund\, Bewegungsraum \nVeranstalter/ Dozent*in: Mona Dormayer und Petra Hahn \nAnmeldung an: Familienzentrum Berliner Straße 4\, Telefon: 0231 – 5015750
URL:https://dortmundmitkind.de/event/bilderbuchkino-die-nacht-vor-ostern/
LOCATION:FABIDO Familienzentrum\, Berliner Str.4\, Dortmund\, 44143
CATEGORIES:Ostern,Vorlesung
END:VEVENT
END:VCALENDAR