BEGIN:VCALENDAR
VERSION:2.0
PRODID:-//Dortmund mit Kind - ECPv6.15.20//NONSGML v1.0//EN
CALSCALE:GREGORIAN
METHOD:PUBLISH
X-WR-CALNAME:Dortmund mit Kind
X-ORIGINAL-URL:https://dortmundmitkind.de
X-WR-CALDESC:Veranstaltungen für Dortmund mit Kind
REFRESH-INTERVAL;VALUE=DURATION:PT1H
X-Robots-Tag:noindex
X-PUBLISHED-TTL:PT1H
BEGIN:VTIMEZONE
TZID:UTC
BEGIN:STANDARD
TZOFFSETFROM:+0000
TZOFFSETTO:+0000
TZNAME:UTC
DTSTART:20240101T000000
END:STANDARD
END:VTIMEZONE
BEGIN:VEVENT
DTSTART;TZID=UTC:20250515T080000
DTEND;TZID=UTC:20250515T170000
DTSTAMP:20260420T182723
CREATED:20250514T130028Z
LAST-MODIFIED:20250514T130113Z
UID:10003016-1747296000-1747328400@dortmundmitkind.de
SUMMARY:Eltern-Kind-Frühstück
DESCRIPTION:
URL:https://dortmundmitkind.de/event/eltern-kind-fruehstueck/2025-05-15/1/
LOCATION:ExtraPlatz DOGEWO Wambel\, Geßlerstraße 13\, Dortmund\, 44141
CATEGORIES:Elterncafe
END:VEVENT
BEGIN:VEVENT
DTSTART;TZID=UTC:20250221T080000
DTEND;TZID=UTC:20250221T170000
DTSTAMP:20260420T182723
CREATED:20250211T091655Z
LAST-MODIFIED:20250211T091655Z
UID:10002826-1740124800-1740157200@dortmundmitkind.de
SUMMARY:Capoeria für Jedermann - Schnupperstunde
DESCRIPTION:Capoeria für Jedermann aber auch insbesondere sind junge Eltern mit kleinen Kindern willkommen. \nCapoeira soll vor allem dazu dienen\, dass Mamas und Papas Sport treiben können\, bei dem ihre Kinder auch willkommen sind. \nHochstühle und Spielsachen sind vor Ort. \nDie Schnupperstunde ist kostenlos. \nAnmeldung erforderlich: Annika Gottwald\, m.litsas@dogewo21.de\, 0231.10 83-294
URL:https://dortmundmitkind.de/event/capoeria-fuer-jedermann-schnupperstunde/2025-02-21/1/
LOCATION:ExtraPlatz DOGEWO Wambel\, Geßlerstraße 13\, Dortmund\, 44141
CATEGORIES:Spielnachmittag,Sport
END:VEVENT
END:VCALENDAR