BEGIN:VCALENDAR
VERSION:2.0
PRODID:-//Dortmund mit Kind - ECPv6.15.20//NONSGML v1.0//EN
CALSCALE:GREGORIAN
METHOD:PUBLISH
X-ORIGINAL-URL:https://dortmundmitkind.de
X-WR-CALDESC:Veranstaltungen für Dortmund mit Kind
REFRESH-INTERVAL;VALUE=DURATION:PT1H
X-Robots-Tag:noindex
X-PUBLISHED-TTL:PT1H
BEGIN:VTIMEZONE
TZID:UTC
BEGIN:STANDARD
TZOFFSETFROM:+0000
TZOFFSETTO:+0000
TZNAME:UTC
DTSTART:20230101T000000
END:STANDARD
END:VTIMEZONE
BEGIN:VEVENT
DTSTART;TZID=UTC:20241224T150000
DTEND;TZID=UTC:20241224T170000
DTSTAMP:20260422T143942
CREATED:20241220T141143Z
LAST-MODIFIED:20241220T141143Z
UID:10002580-1735052400-1735059600@dortmundmitkind.de
SUMMARY:Gottesdienst zu Heiligabend mit Krippenspiel
DESCRIPTION:
URL:https://dortmundmitkind.de/event/gottesdienst-zu-heiligabend-mit-krippenspiel/
LOCATION:Ev. Kirchengemeinde St. Reinoldi\, Melanchthonstraße 6\, Dortmund\, 44143
CATEGORIES:Weihnachten
END:VEVENT
END:VCALENDAR