BEGIN:VCALENDAR
VERSION:2.0
PRODID:-//Dortmund mit Kind - ECPv6.15.20//NONSGML v1.0//EN
CALSCALE:GREGORIAN
METHOD:PUBLISH
X-ORIGINAL-URL:https://dortmundmitkind.de
X-WR-CALDESC:Veranstaltungen für Dortmund mit Kind
REFRESH-INTERVAL;VALUE=DURATION:PT1H
X-Robots-Tag:noindex
X-PUBLISHED-TTL:PT1H
BEGIN:VTIMEZONE
TZID:UTC
BEGIN:STANDARD
TZOFFSETFROM:+0000
TZOFFSETTO:+0000
TZNAME:UTC
DTSTART:20230101T000000
END:STANDARD
END:VTIMEZONE
BEGIN:VEVENT
DTSTART;TZID=UTC:20241224T160000
DTEND;TZID=UTC:20241224T170000
DTSTAMP:20260420T123556
CREATED:20241220T142038Z
LAST-MODIFIED:20241220T143000Z
UID:10002585-1735056000-1735059600@dortmundmitkind.de
SUMMARY:Gottesdienst mit Krippenspiel
DESCRIPTION:
URL:https://dortmundmitkind.de/event/gottesdienst-mit-krippenspiel/2024-12-24/2/
LOCATION:Ev. Kirche Eichlinghofen\, Eichlinghofer Str. 5\, Dortmund\, 44227
CATEGORIES:Weihnachten
END:VEVENT
END:VCALENDAR