BEGIN:VCALENDAR
VERSION:2.0
PRODID:-//Dortmund mit Kind - ECPv6.15.20//NONSGML v1.0//EN
CALSCALE:GREGORIAN
METHOD:PUBLISH
X-ORIGINAL-URL:https://dortmundmitkind.de
X-WR-CALDESC:Veranstaltungen für Dortmund mit Kind
REFRESH-INTERVAL;VALUE=DURATION:PT1H
X-Robots-Tag:noindex
X-PUBLISHED-TTL:PT1H
BEGIN:VTIMEZONE
TZID:UTC
BEGIN:STANDARD
TZOFFSETFROM:+0000
TZOFFSETTO:+0000
TZNAME:UTC
DTSTART:20240101T000000
END:STANDARD
END:VTIMEZONE
BEGIN:VEVENT
DTSTART;TZID=UTC:20250415T150000
DTEND;TZID=UTC:20250415T170000
DTSTAMP:20260425T142818
CREATED:20250410T072834Z
LAST-MODIFIED:20250410T072834Z
UID:10002962-1744729200-1744736400@dortmundmitkind.de
SUMMARY:DIY-Spielzeug? Yes\, please!
DESCRIPTION:DIY-Spielzeug? Yes\, please! \nSpielzeug muss nicht teuer sein – wir basteln coole Sachen aus Dingen\, die du sonst wegwerfen würdest. 😍 \n📍 Wo? EDG Möbelbörse\, Zeche Crone 12 \n🗓️ Wann? 15. April | 15–17 Uhr \n👩‍🏫 Ein Workshop der EDG Umweltbildung \n💌 Anmeldung per Mail: umweltbildung@edg.de \n💡 Bring bitte leere Klopapierrollen mit – den Rest stellen wir. \nOb für die Kids oder zum Selber-Ausprobieren: Komm vorbei und bastel mit uns was richtig Schönes!
URL:https://dortmundmitkind.de/event/diy-spielzeug-yes-please/
LOCATION:edg Möbelbörse\, Zeche Crone 12\, Dortmund
CATEGORIES:Basteln
END:VEVENT
END:VCALENDAR