BEGIN:VCALENDAR
VERSION:2.0
PRODID:-//Dortmund mit Kind - ECPv6.15.20//NONSGML v1.0//EN
CALSCALE:GREGORIAN
METHOD:PUBLISH
X-WR-CALNAME:Dortmund mit Kind
X-ORIGINAL-URL:https://dortmundmitkind.de
X-WR-CALDESC:Veranstaltungen für Dortmund mit Kind
REFRESH-INTERVAL;VALUE=DURATION:PT1H
X-Robots-Tag:noindex
X-PUBLISHED-TTL:PT1H
BEGIN:VTIMEZONE
TZID:UTC
BEGIN:STANDARD
TZOFFSETFROM:+0000
TZOFFSETTO:+0000
TZNAME:UTC
DTSTART:20230101T000000
END:STANDARD
END:VTIMEZONE
BEGIN:VEVENT
DTSTART;VALUE=DATE:20241109
DTEND;VALUE=DATE:20241110
DTSTAMP:20260425T131429
CREATED:20241021T205314Z
LAST-MODIFIED:20241021T205314Z
UID:10001935-1731110400-1731196799@dortmundmitkind.de
SUMMARY:Herbstbasar
DESCRIPTION:
URL:https://dortmundmitkind.de/event/herbstbasar/
LOCATION:Christopherus-Schule\, Krelsstraße 55\, Drotmund\, 44267
CATEGORIES:Draußen,Drinnen,Kreativität
END:VEVENT
END:VCALENDAR