BEGIN:VCALENDAR
VERSION:2.0
PRODID:-//Dortmund mit Kind - ECPv6.15.20//NONSGML v1.0//EN
CALSCALE:GREGORIAN
METHOD:PUBLISH
X-WR-CALNAME:Dortmund mit Kind
X-ORIGINAL-URL:https://dortmundmitkind.de
X-WR-CALDESC:Veranstaltungen für Dortmund mit Kind
REFRESH-INTERVAL;VALUE=DURATION:PT1H
X-Robots-Tag:noindex
X-PUBLISHED-TTL:PT1H
BEGIN:VTIMEZONE
TZID:UTC
BEGIN:STANDARD
TZOFFSETFROM:+0000
TZOFFSETTO:+0000
TZNAME:UTC
DTSTART:20230101T000000
END:STANDARD
END:VTIMEZONE
BEGIN:VEVENT
DTSTART;TZID=UTC:20241108T180000
DTEND;TZID=UTC:20241108T210000
DTSTAMP:20260422T030815
CREATED:20241030T150225Z
LAST-MODIFIED:20241030T150225Z
UID:10002013-1731088800-1731099600@dortmundmitkind.de
SUMMARY:Oespeler Martinszug 2024
DESCRIPTION:Treffpunkt: Schulhof auf der Liniert -> Dorfplatz \nMartinsbrezel &#8211; die Leckeren vom CityBäcker.\nWarme und kalte Getränke von der Keglerklause Niedersteberg. \nBratwurstgrill vom BSV Oespel-Kley.\nMartinsreiter \nMusikkapellen\nMartinslegende \nBrezelmarken sind zum Preis von € 2\,50 bei Getränke Rudat\, Borussiastraße 22 erhältlich. Ausgabe der Brezel (nur gegen Brezel-marke) ab 17 Uhr auf dem Schulhof.
URL:https://dortmundmitkind.de/event/oespeler-martinszug-2024/
LOCATION:BSV Oespel Kley
CATEGORIES:Draußen
END:VEVENT
END:VCALENDAR