BEGIN:VCALENDAR
VERSION:2.0
PRODID:-//Dortmund mit Kind - ECPv6.15.20//NONSGML v1.0//EN
CALSCALE:GREGORIAN
METHOD:PUBLISH
X-WR-CALNAME:Dortmund mit Kind
X-ORIGINAL-URL:https://dortmundmitkind.de
X-WR-CALDESC:Veranstaltungen für Dortmund mit Kind
REFRESH-INTERVAL;VALUE=DURATION:PT1H
X-Robots-Tag:noindex
X-PUBLISHED-TTL:PT1H
BEGIN:VTIMEZONE
TZID:UTC
BEGIN:STANDARD
TZOFFSETFROM:+0000
TZOFFSETTO:+0000
TZNAME:UTC
DTSTART:20230101T000000
END:STANDARD
END:VTIMEZONE
BEGIN:VEVENT
DTSTART;TZID=UTC:20250405T093000
DTEND;TZID=UTC:20250405T140000
DTSTAMP:20260425T115419
CREATED:20250125T131346Z
LAST-MODIFIED:20250125T131346Z
UID:10002770-1743845400-1743861600@dortmundmitkind.de
SUMMARY:Frühlingsmärktchen
DESCRIPTION:
URL:https://dortmundmitkind.de/event/fruehlingsmaerktchen/
LOCATION:Brittas-Wurzelwerkstatt\, Kurze Straße 30\, Dortmund\, 44137
CATEGORIES:Drinnen,Kreativität,Markt
END:VEVENT
BEGIN:VEVENT
DTSTART;TZID=UTC:20241109T093000
DTEND;TZID=UTC:20241109T140000
DTSTAMP:20260425T115419
CREATED:20241029T184040Z
LAST-MODIFIED:20241108T081624Z
UID:10001954-1731144600-1731160800@dortmundmitkind.de
SUMMARY:Martinsbasar
DESCRIPTION:Verkauf von selbst hergestellten Dekoartikeln für den Jahrezeitentisch u.v.m. aus Stoff\, Wolle\, Filz und Papier
URL:https://dortmundmitkind.de/event/martinsbasar/
LOCATION:Brittas-Wurzelwerkstatt\, Kurze Straße 30\, Dortmund\, 44137
CATEGORIES:St. Martin
END:VEVENT
END:VCALENDAR