BEGIN:VCALENDAR
VERSION:2.0
PRODID:-//Dortmund mit Kind - ECPv6.15.20//NONSGML v1.0//EN
CALSCALE:GREGORIAN
METHOD:PUBLISH
X-ORIGINAL-URL:https://dortmundmitkind.de
X-WR-CALDESC:Veranstaltungen für Dortmund mit Kind
REFRESH-INTERVAL;VALUE=DURATION:PT1H
X-Robots-Tag:noindex
X-PUBLISHED-TTL:PT1H
BEGIN:VTIMEZONE
TZID:UTC
BEGIN:STANDARD
TZOFFSETFROM:+0000
TZOFFSETTO:+0000
TZNAME:UTC
DTSTART:20230101T000000
END:STANDARD
END:VTIMEZONE
BEGIN:VEVENT
DTSTART;TZID=UTC:20241109T164500
DTEND;TZID=UTC:20241109T190000
DTSTAMP:20260421T172336
CREATED:20241108T080956Z
LAST-MODIFIED:20241108T080956Z
UID:10002066-1731170700-1731178800@dortmundmitkind.de
SUMMARY:Martinsfest in Dortmund-Marten
DESCRIPTION:Er wird mit den Kindern zwar nicht durch die Straßen ziehen\, aber um den Sportplatz. Außerdem wird die Geschichte des St. Martin erzählt\, es gibt Bratwurst\, Grünkohl und vieles mehr. \nWo?: auf der Bezirkssportanlage am Wischlinger Weg in Marten\, inklusive St. Martin und Pferd.
URL:https://dortmundmitkind.de/event/martinsfest-in-dortmund-marten/
LOCATION:Bezirkssportanlage am Wischlinger Weg\, am Wischlinger Weg\, Dortmund
CATEGORIES:St. Martin
END:VEVENT
END:VCALENDAR