BEGIN:VCALENDAR
VERSION:2.0
PRODID:-//Dortmund mit Kind - ECPv6.15.20//NONSGML v1.0//EN
CALSCALE:GREGORIAN
METHOD:PUBLISH
X-ORIGINAL-URL:https://dortmundmitkind.de
X-WR-CALDESC:Veranstaltungen für Dortmund mit Kind
REFRESH-INTERVAL;VALUE=DURATION:PT1H
X-Robots-Tag:noindex
X-PUBLISHED-TTL:PT1H
BEGIN:VTIMEZONE
TZID:UTC
BEGIN:STANDARD
TZOFFSETFROM:+0000
TZOFFSETTO:+0000
TZNAME:UTC
DTSTART:20230101T000000
END:STANDARD
END:VTIMEZONE
BEGIN:VEVENT
DTSTART;TZID=UTC:20241004T143000
DTEND;TZID=UTC:20241004T180000
DTSTAMP:20260422T182526
CREATED:20241001T070104Z
LAST-MODIFIED:20241001T143038Z
UID:10000057-1728052200-1728064800@dortmundmitkind.de
SUMMARY:Flohmarkt rund ums Kind
DESCRIPTION:
URL:https://dortmundmitkind.de/event/flohmarkt-rund-ums-kind/
LOCATION:AWO Kita\, Molkereistraße 10f\, Molkereistr. 10f
CATEGORIES:Draußen,Flohmarkt
END:VEVENT
END:VCALENDAR